BEGIN:VCALENDAR
VERSION:2.0
PRODID:-//Glen Lake Chamber of Commerce - ECPv6.15.19//NONSGML v1.0//EN
CALSCALE:GREGORIAN
METHOD:PUBLISH
X-ORIGINAL-URL:https://www.visitglenarbor.com
X-WR-CALDESC:Events for Glen Lake Chamber of Commerce
REFRESH-INTERVAL;VALUE=DURATION:PT1H
X-Robots-Tag:noindex
X-PUBLISHED-TTL:PT1H
BEGIN:VTIMEZONE
TZID:America/Detroit
BEGIN:DAYLIGHT
TZOFFSETFROM:-0500
TZOFFSETTO:-0400
TZNAME:EDT
DTSTART:20220313T070000
END:DAYLIGHT
BEGIN:STANDARD
TZOFFSETFROM:-0400
TZOFFSETTO:-0500
TZNAME:EST
DTSTART:20221106T060000
END:STANDARD
BEGIN:DAYLIGHT
TZOFFSETFROM:-0500
TZOFFSETTO:-0400
TZNAME:EDT
DTSTART:20230312T070000
END:DAYLIGHT
BEGIN:STANDARD
TZOFFSETFROM:-0400
TZOFFSETTO:-0500
TZNAME:EST
DTSTART:20231105T060000
END:STANDARD
BEGIN:DAYLIGHT
TZOFFSETFROM:-0500
TZOFFSETTO:-0400
TZNAME:EDT
DTSTART:20240310T070000
END:DAYLIGHT
BEGIN:STANDARD
TZOFFSETFROM:-0400
TZOFFSETTO:-0500
TZNAME:EST
DTSTART:20241103T060000
END:STANDARD
END:VTIMEZONE
BEGIN:VEVENT
DTSTART;TZID=America/Detroit:20230630T110000
DTEND;TZID=America/Detroit:20230630T110000
DTSTAMP:20260419T160855
CREATED:20230620T183542Z
LAST-MODIFIED:20230620T183542Z
UID:10004905-1688122800-1688122800@www.visitglenarbor.com
SUMMARY:Ashtanga Yoga at Empire Township Hall
DESCRIPTION:Join Jessica Sharry for Ashtanga Yoga at Empire Township Hall (through Empire Area Community Center) on Fridays in June (11AM-12:15). Suggested donation: $10 \nQuestions: email Jessica at jessicasharry@yahoo.com or call/text 231-493-6993
URL:https://www.visitglenarbor.com/event/ashtanga-yoga-at-empire-township-hall/2023-06-30/
LOCATION:Empire Township Hall\, 10088 W. Front Street\, Empire\, MI \, Empire\, MI\, 49630\, United States
CATEGORIES:Community Events,Education
ATTACH;FMTTYPE=image/jpeg:https://www.visitglenarbor.com/wp-content/uploads/2023/06/EmpireYoga.jpg
END:VEVENT
BEGIN:VEVENT
DTSTART;TZID=America/Detroit:20230630T110000
DTEND;TZID=America/Detroit:20230630T153000
DTSTAMP:20260419T160855
CREATED:20230616T183657Z
LAST-MODIFIED:20230616T183657Z
UID:10004895-1688122800-1688139000@www.visitglenarbor.com
SUMMARY:Glen Lake Library/Versiti Blood Drive - June 30
DESCRIPTION:Help support a critical component of our local healthcare system by participating in this upcoming blood drive\, presented by Versiti\, the coordinator for blood supplies in northern Michigan. The Versiti team will be on hand in the library’s Program Room\, from 11:00 am to 3:30 pm\, ready to accept these vital donations. For an appointment\, please register online in advance: https://www.donate.michigan.versiti.org. Walk-ins will also be welcome as the schedule allows. This is our first time partnering with Versiti\, so we’re eager to meet the target of at least 20 blood donations for the day.
URL:https://www.visitglenarbor.com/event/glen-lake-library-versiti-blood-drive-june-30/
LOCATION:Glen Lake Community Library\, 10115 Front Street\, Empire\, MI\, 49630\, United States
CATEGORIES:Community Events
ATTACH;FMTTYPE=image/png:https://www.visitglenarbor.com/wp-content/uploads/2023/06/give-blood.png
ORGANIZER;CN="Glen Lake Community Library":MAILTO:info@glenlakelibrary.net
END:VEVENT
BEGIN:VEVENT
DTSTART;TZID=America/Detroit:20230630T170000
DTEND;TZID=America/Detroit:20230630T200000
DTSTAMP:20260419T160855
CREATED:20230511T212811Z
LAST-MODIFIED:20230511T212811Z
UID:10004862-1688144400-1688155200@www.visitglenarbor.com
SUMMARY:Late Night Fridays
DESCRIPTION:The Glen Arbor Arts Center is keeping the lights on a little longer this summer. Late Night Fridays continues Friday\, June 30 with an evening viewing of Members Create. This annual exhibition showcases the talents of 49 GAAC members\, including painting\, mixed media\, sculpture\, clay and more in the GAAC Main Gallery\, 5 – 8 pm. The Birds Are Watching\, mixed media constructions by Jessica Kovan\, are on view in the Lobby Gallery. Read more about the exhibits at GlenArborArt.org / EXHIBITS.
URL:https://www.visitglenarbor.com/event/late-night-fridays-4/
LOCATION:MI\, United States
ATTACH;FMTTYPE=image/jpeg:https://www.visitglenarbor.com/wp-content/uploads/2023/05/LateNightFridays_2023_FB-4.jpg
END:VEVENT
BEGIN:VEVENT
DTSTART;TZID=America/Detroit:20230630T170000
DTEND;TZID=America/Detroit:20230630T210000
DTSTAMP:20260419T160855
CREATED:20230508T161227Z
LAST-MODIFIED:20230508T161227Z
UID:10004832-1688144400-1688158800@www.visitglenarbor.com
SUMMARY:Luke Woltanski @ Glen Arbor Wines
DESCRIPTION:Relax and enjoy the music of the incredibly talented Luke Woltanski on the front porch @ Glen Arbor Wines Friday evenings from 7 to 9 p.m. throughout the summer beginning June 9.
URL:https://www.visitglenarbor.com/event/luke-woltanski-glen-arbor-wines/2023-06-30/
LOCATION:Glen Arbor Wines
CATEGORIES:Music
ATTACH;FMTTYPE=image/jpeg:https://www.visitglenarbor.com/wp-content/uploads/2023/05/luke.jpg
ORGANIZER;CN="Glen Arbor Wines":MAILTO:Glenarborwines@gmail.com
END:VEVENT
END:VCALENDAR