BEGIN:VCALENDAR
VERSION:2.0
PRODID:-//Glen Lake Chamber of Commerce - ECPv6.15.19//NONSGML v1.0//EN
CALSCALE:GREGORIAN
METHOD:PUBLISH
X-WR-CALNAME:Glen Lake Chamber of Commerce
X-ORIGINAL-URL:https://www.visitglenarbor.com
X-WR-CALDESC:Events for Glen Lake Chamber of Commerce
REFRESH-INTERVAL;VALUE=DURATION:PT1H
X-Robots-Tag:noindex
X-PUBLISHED-TTL:PT1H
BEGIN:VTIMEZONE
TZID:America/Detroit
BEGIN:DAYLIGHT
TZOFFSETFROM:-0500
TZOFFSETTO:-0400
TZNAME:EDT
DTSTART:20220313T070000
END:DAYLIGHT
BEGIN:STANDARD
TZOFFSETFROM:-0400
TZOFFSETTO:-0500
TZNAME:EST
DTSTART:20221106T060000
END:STANDARD
BEGIN:DAYLIGHT
TZOFFSETFROM:-0500
TZOFFSETTO:-0400
TZNAME:EDT
DTSTART:20230312T070000
END:DAYLIGHT
BEGIN:STANDARD
TZOFFSETFROM:-0400
TZOFFSETTO:-0500
TZNAME:EST
DTSTART:20231105T060000
END:STANDARD
BEGIN:DAYLIGHT
TZOFFSETFROM:-0500
TZOFFSETTO:-0400
TZNAME:EDT
DTSTART:20240310T070000
END:DAYLIGHT
BEGIN:STANDARD
TZOFFSETFROM:-0400
TZOFFSETTO:-0500
TZNAME:EST
DTSTART:20241103T060000
END:STANDARD
END:VTIMEZONE
BEGIN:VEVENT
DTSTART;TZID=America/Detroit:20230627T110000
DTEND;TZID=America/Detroit:20230627T120000
DTSTAMP:20260419T121652
CREATED:20230627T193625Z
LAST-MODIFIED:20230627T193730Z
UID:10004907-1687863600-1687867200@www.visitglenarbor.com
SUMMARY:Kids Live Music with Luunappi at the M22 Wine Patio
DESCRIPTION:Luunappi (Finnish for a finger snap to the ear!)—Patrick Niemisto and Norm Wheeler present an interactive tag team of songs\, stories\, and poems from a veritable plethora of sources\, (including their own material). Luunappi creates a unique world of sneetches\, goblins\, skunks\, hobos\, pirates\, shipwrecked sailors\, grown-ups taking sauna\, and kids cleaning dirty rooms.
URL:https://www.visitglenarbor.com/event/kids-live-music-with-luunappi-at-the-m22-wine-patio/
LOCATION:M22 Outdoor Wine Patio\, 6298 W. Western Ave\, Glen Arbor\, MI\, 49636\, United States
CATEGORIES:Kids + Family Friendly
ATTACH;FMTTYPE=image/jpeg:https://www.visitglenarbor.com/wp-content/uploads/2023/06/Luunnappi-scaled-e1687894640817.jpeg
END:VEVENT
END:VCALENDAR