BEGIN:VCALENDAR
VERSION:2.0
PRODID:-//Glen Lake Chamber of Commerce - ECPv6.15.19//NONSGML v1.0//EN
CALSCALE:GREGORIAN
METHOD:PUBLISH
X-WR-CALNAME:Glen Lake Chamber of Commerce
X-ORIGINAL-URL:https://www.visitglenarbor.com
X-WR-CALDESC:Events for Glen Lake Chamber of Commerce
REFRESH-INTERVAL;VALUE=DURATION:PT1H
X-Robots-Tag:noindex
X-PUBLISHED-TTL:PT1H
BEGIN:VTIMEZONE
TZID:America/Detroit
BEGIN:DAYLIGHT
TZOFFSETFROM:-0500
TZOFFSETTO:-0400
TZNAME:EDT
DTSTART:20220313T070000
END:DAYLIGHT
BEGIN:STANDARD
TZOFFSETFROM:-0400
TZOFFSETTO:-0500
TZNAME:EST
DTSTART:20221106T060000
END:STANDARD
BEGIN:DAYLIGHT
TZOFFSETFROM:-0500
TZOFFSETTO:-0400
TZNAME:EDT
DTSTART:20230312T070000
END:DAYLIGHT
BEGIN:STANDARD
TZOFFSETFROM:-0400
TZOFFSETTO:-0500
TZNAME:EST
DTSTART:20231105T060000
END:STANDARD
BEGIN:DAYLIGHT
TZOFFSETFROM:-0500
TZOFFSETTO:-0400
TZNAME:EDT
DTSTART:20240310T070000
END:DAYLIGHT
BEGIN:STANDARD
TZOFFSETFROM:-0400
TZOFFSETTO:-0500
TZNAME:EST
DTSTART:20241103T060000
END:STANDARD
END:VTIMEZONE
BEGIN:VEVENT
DTSTART;TZID=America/Detroit:20230612T080000
DTEND;TZID=America/Detroit:20230625T170000
DTSTAMP:20260419T230400
CREATED:20230223T155836Z
LAST-MODIFIED:20230223T170852Z
UID:10003914-1686556800-1687712400@www.visitglenarbor.com
SUMMARY:2023 Manitou Music - The PULSE Saxophone Quartet
DESCRIPTION:The Glen Arbor Arts Center welcomes its 2023 musicians-in-residence\, Interlochen Public Radio’s The PULSE Saxophone Quartet. PULSE will be performing in Glen Arbor June 12-25 in off-stage places creating intimate experiences that close the gap between audiences and classical musicians. The first concert will be Friday\, June 16\, 7pm at the Glen Arbor Arts Center front porch. The final concert will be held at the Leelanau School Beach at 7 pm on June 22. \nPulse Saxophone will be hosted by the GAAC’s community partner\, Pine Street Studios. Manitou Music is a project of the Glen Arbor Arts Center. Reservations for admission are free and are available at GlenArborArt.Org/events. For more information\, please go to GlenArborArt.org\, or call 231/334-6112.
URL:https://www.visitglenarbor.com/event/2023-manitou-music-the-pulse-saxophone-quartet/
LOCATION:Glen Arbor Arts Center\, 6031 S. Lake Street\, Glen Arbor\, MI\, 49636
CATEGORIES:Music
ATTACH;FMTTYPE=image/jpeg:https://www.visitglenarbor.com/wp-content/uploads/2023/02/Pulse-quartet-copy.jpg
ORGANIZER;CN="Glen Arbor Arts Center":MAILTO:director@glenarborart.org
END:VEVENT
BEGIN:VEVENT
DTSTART;TZID=America/Detroit:20230625T110000
DTEND;TZID=America/Detroit:20230625T140000
DTSTAMP:20260419T230400
CREATED:20230508T161727Z
LAST-MODIFIED:20230508T161727Z
UID:10004851-1687690800-1687701600@www.visitglenarbor.com
SUMMARY:Mel & Fell Pop Up Brunch @ Glen Arbor Wines
DESCRIPTION:Enjoy fresh-squeezed orange juice mimosas and brunch prepared by loved caterers Mel & Fell @ Glen Arbor Wines.
URL:https://www.visitglenarbor.com/event/mel-fell-pop-up-brunch-glen-arbor-wines/2023-06-25/
LOCATION:Glen Arbor Wines
CATEGORIES:Food/Dining Event
ATTACH;FMTTYPE=image/jpeg:https://www.visitglenarbor.com/wp-content/uploads/2023/05/mimosa.jpg
ORGANIZER;CN="Glen Arbor Wines":MAILTO:Glenarborwines@gmail.com
END:VEVENT
BEGIN:VEVENT
DTSTART;TZID=America/Detroit:20230625T110000
DTEND;TZID=America/Detroit:20230625T160000
DTSTAMP:20260419T230400
CREATED:20230620T183607Z
LAST-MODIFIED:20230620T183607Z
UID:10004894-1687690800-1687708800@www.visitglenarbor.com
SUMMARY:Log Cabin Day
DESCRIPTION:Join us for our first Log Cabin Day in Sleeping Bear Dunes National Lakeshore!\nStep inside five of the six log cabins in the Park on Michigan Log Cabin Day! \nPreserve Historic Sleeping Bear has repaired most of these historic structures over the years and we want to share these amazing structures and their stories with you. \nInterpreters and/or storyboards will be at each of the log cabins. Some demonstrations of traditional building will take place. Allow enough time to get from the north end to the south end of the park. \nPick up your free Log Cabin Day card at any of the sites and start exploring! Get your card stamped at 4 of the 5 sites to receive your free 50th Sleeping Bear Dunes National Lakeshore sticker. Get your card stamped at all five sites and you will be entered into a drawing of other prizes including Maple Syrup. \nWhen you visit\, receive your coupon for a 10% discount on log cabin related books at the Cottage Book Shop in Glen Arbor!
URL:https://www.visitglenarbor.com/event/log-cabin-day/
LOCATION:Sleeping Bear Dunes National Lakeshore\, 9922 Front Street Highway M-72\, Empire\, MI\, 49630\, United States
CATEGORIES:Education,Kids + Family Friendly,Recreation
ATTACH;FMTTYPE=image/jpeg:https://www.visitglenarbor.com/wp-content/uploads/2023/06/Resized_20230529_101108.jpeg
END:VEVENT
END:VCALENDAR