BEGIN:VCALENDAR
VERSION:2.0
PRODID:-//Glen Lake Chamber of Commerce - ECPv6.15.19//NONSGML v1.0//EN
CALSCALE:GREGORIAN
METHOD:PUBLISH
X-WR-CALNAME:Glen Lake Chamber of Commerce
X-ORIGINAL-URL:https://www.visitglenarbor.com
X-WR-CALDESC:Events for Glen Lake Chamber of Commerce
REFRESH-INTERVAL;VALUE=DURATION:PT1H
X-Robots-Tag:noindex
X-PUBLISHED-TTL:PT1H
BEGIN:VTIMEZONE
TZID:America/Detroit
BEGIN:DAYLIGHT
TZOFFSETFROM:-0500
TZOFFSETTO:-0400
TZNAME:EDT
DTSTART:20220313T070000
END:DAYLIGHT
BEGIN:STANDARD
TZOFFSETFROM:-0400
TZOFFSETTO:-0500
TZNAME:EST
DTSTART:20221106T060000
END:STANDARD
BEGIN:DAYLIGHT
TZOFFSETFROM:-0500
TZOFFSETTO:-0400
TZNAME:EDT
DTSTART:20230312T070000
END:DAYLIGHT
BEGIN:STANDARD
TZOFFSETFROM:-0400
TZOFFSETTO:-0500
TZNAME:EST
DTSTART:20231105T060000
END:STANDARD
BEGIN:DAYLIGHT
TZOFFSETFROM:-0500
TZOFFSETTO:-0400
TZNAME:EDT
DTSTART:20240310T070000
END:DAYLIGHT
BEGIN:STANDARD
TZOFFSETFROM:-0400
TZOFFSETTO:-0500
TZNAME:EST
DTSTART:20241103T060000
END:STANDARD
END:VTIMEZONE
BEGIN:VEVENT
DTSTART;TZID=America/Detroit:20230612T080000
DTEND;TZID=America/Detroit:20230625T170000
DTSTAMP:20260423T025437
CREATED:20230223T155836Z
LAST-MODIFIED:20230223T170852Z
UID:10003914-1686556800-1687712400@www.visitglenarbor.com
SUMMARY:2023 Manitou Music - The PULSE Saxophone Quartet
DESCRIPTION:The Glen Arbor Arts Center welcomes its 2023 musicians-in-residence\, Interlochen Public Radio’s The PULSE Saxophone Quartet. PULSE will be performing in Glen Arbor June 12-25 in off-stage places creating intimate experiences that close the gap between audiences and classical musicians. The first concert will be Friday\, June 16\, 7pm at the Glen Arbor Arts Center front porch. The final concert will be held at the Leelanau School Beach at 7 pm on June 22. \nPulse Saxophone will be hosted by the GAAC’s community partner\, Pine Street Studios. Manitou Music is a project of the Glen Arbor Arts Center. Reservations for admission are free and are available at GlenArborArt.Org/events. For more information\, please go to GlenArborArt.org\, or call 231/334-6112.
URL:https://www.visitglenarbor.com/event/2023-manitou-music-the-pulse-saxophone-quartet/
LOCATION:Glen Arbor Arts Center\, 6031 S. Lake Street\, Glen Arbor\, MI\, 49636
CATEGORIES:Music
ATTACH;FMTTYPE=image/jpeg:https://www.visitglenarbor.com/wp-content/uploads/2023/02/Pulse-quartet-copy.jpg
ORGANIZER;CN="Glen Arbor Arts Center":MAILTO:director@glenarborart.org
END:VEVENT
BEGIN:VEVENT
DTSTART;TZID=America/Detroit:20230623T110000
DTEND;TZID=America/Detroit:20230623T110000
DTSTAMP:20260423T025437
CREATED:20230620T183542Z
LAST-MODIFIED:20230620T183542Z
UID:10004904-1687518000-1687518000@www.visitglenarbor.com
SUMMARY:Ashtanga Yoga at Empire Township Hall
DESCRIPTION:Join Jessica Sharry for Ashtanga Yoga at Empire Township Hall (through Empire Area Community Center) on Fridays in June (11AM-12:15). Suggested donation: $10 \nQuestions: email Jessica at jessicasharry@yahoo.com or call/text 231-493-6993
URL:https://www.visitglenarbor.com/event/ashtanga-yoga-at-empire-township-hall/2023-06-23/
LOCATION:Empire Township Hall\, 10088 W. Front Street\, Empire\, MI \, Empire\, MI\, 49630\, United States
CATEGORIES:Community Events,Education
ATTACH;FMTTYPE=image/jpeg:https://www.visitglenarbor.com/wp-content/uploads/2023/06/EmpireYoga.jpg
END:VEVENT
BEGIN:VEVENT
DTSTART;TZID=America/Detroit:20230623T170000
DTEND;TZID=America/Detroit:20230623T200000
DTSTAMP:20260423T025437
CREATED:20230511T212801Z
LAST-MODIFIED:20230511T212801Z
UID:10004861-1687539600-1687550400@www.visitglenarbor.com
SUMMARY:Late Night Fridays
DESCRIPTION:The Glen Arbor Arts Center is keeping the lights on a little longer this summer. Late Night Fridays continues Friday\, June 23 with an evening viewing of Members Create. This annual exhibition showcases the talents of 49 GAAC members\, including painting\, mixed media\, sculpture\, clay and more in the GAAC Main Gallery\, 5 – 8 pm. The Birds Are Watching\, mixed media constructions by Jessica Kovan\, are on view in the Lobby Gallery. Read more about the exhibits at GlenArborArt.org / EXHIBITS.
URL:https://www.visitglenarbor.com/event/late-night-fridays-3/
LOCATION:MI\, United States
ATTACH;FMTTYPE=image/jpeg:https://www.visitglenarbor.com/wp-content/uploads/2023/05/LateNightFridays_2023_FB-3.jpg
END:VEVENT
BEGIN:VEVENT
DTSTART;TZID=America/Detroit:20230623T170000
DTEND;TZID=America/Detroit:20230623T210000
DTSTAMP:20260423T025437
CREATED:20230508T161227Z
LAST-MODIFIED:20230508T161227Z
UID:10004831-1687539600-1687554000@www.visitglenarbor.com
SUMMARY:Luke Woltanski @ Glen Arbor Wines
DESCRIPTION:Relax and enjoy the music of the incredibly talented Luke Woltanski on the front porch @ Glen Arbor Wines Friday evenings from 7 to 9 p.m. throughout the summer beginning June 9.
URL:https://www.visitglenarbor.com/event/luke-woltanski-glen-arbor-wines/2023-06-23/
LOCATION:Glen Arbor Wines
CATEGORIES:Music
ATTACH;FMTTYPE=image/jpeg:https://www.visitglenarbor.com/wp-content/uploads/2023/05/luke.jpg
ORGANIZER;CN="Glen Arbor Wines":MAILTO:Glenarborwines@gmail.com
END:VEVENT
BEGIN:VEVENT
DTSTART;TZID=America/Detroit:20230623T200000
DTEND;TZID=America/Detroit:20230623T220000
DTSTAMP:20260423T025437
CREATED:20230224T181640Z
LAST-MODIFIED:20230224T182533Z
UID:10003922-1687550400-1687557600@www.visitglenarbor.com
SUMMARY:Beach Bards Bonfire 2023
DESCRIPTION:The public is welcome to come and share By Heart Poetry\, Stories\, or Music or to simply enjoy the experience of a community bonfire on the shore of Lake Michigan. \nThe over 30-year tradition of Beach Bards is a memorable experience for people of all ages. \nVisitors may park in any Leelanau School lot and walk down the scenic boardwalk\, across the Crystal River\, to the bonfire circle or adventurous types can walk in from the beach near the Lanphier Observatory boardwalk.
URL:https://www.visitglenarbor.com/event/beach-bards-bonfire-2023/2023-06-23/
LOCATION:Leelanau School\, 1 Old Homestead Rd\, Glen Arbor\, MI\, 49636\, United States
CATEGORIES:Community Events,Kids + Family Friendly,Music,Recreation
ATTACH;FMTTYPE=image/jpeg:https://www.visitglenarbor.com/wp-content/uploads/2020/03/Beach-Bards-06-e1587065585761.jpg
END:VEVENT
END:VCALENDAR