BEGIN:VCALENDAR
VERSION:2.0
PRODID:-//Glen Lake Chamber of Commerce - ECPv6.15.19//NONSGML v1.0//EN
CALSCALE:GREGORIAN
METHOD:PUBLISH
X-WR-CALNAME:Glen Lake Chamber of Commerce
X-ORIGINAL-URL:https://www.visitglenarbor.com
X-WR-CALDESC:Events for Glen Lake Chamber of Commerce
REFRESH-INTERVAL;VALUE=DURATION:PT1H
X-Robots-Tag:noindex
X-PUBLISHED-TTL:PT1H
BEGIN:VTIMEZONE
TZID:America/Detroit
BEGIN:DAYLIGHT
TZOFFSETFROM:-0500
TZOFFSETTO:-0400
TZNAME:EDT
DTSTART:20220313T070000
END:DAYLIGHT
BEGIN:STANDARD
TZOFFSETFROM:-0400
TZOFFSETTO:-0500
TZNAME:EST
DTSTART:20221106T060000
END:STANDARD
BEGIN:DAYLIGHT
TZOFFSETFROM:-0500
TZOFFSETTO:-0400
TZNAME:EDT
DTSTART:20230312T070000
END:DAYLIGHT
BEGIN:STANDARD
TZOFFSETFROM:-0400
TZOFFSETTO:-0500
TZNAME:EST
DTSTART:20231105T060000
END:STANDARD
BEGIN:DAYLIGHT
TZOFFSETFROM:-0500
TZOFFSETTO:-0400
TZNAME:EDT
DTSTART:20240310T070000
END:DAYLIGHT
BEGIN:STANDARD
TZOFFSETFROM:-0400
TZOFFSETTO:-0500
TZNAME:EST
DTSTART:20241103T060000
END:STANDARD
END:VTIMEZONE
BEGIN:VEVENT
DTSTART;TZID=America/Detroit:20230612T080000
DTEND;TZID=America/Detroit:20230625T170000
DTSTAMP:20260423T052354
CREATED:20230223T155836Z
LAST-MODIFIED:20230223T170852Z
UID:10003914-1686556800-1687712400@www.visitglenarbor.com
SUMMARY:2023 Manitou Music - The PULSE Saxophone Quartet
DESCRIPTION:The Glen Arbor Arts Center welcomes its 2023 musicians-in-residence\, Interlochen Public Radio’s The PULSE Saxophone Quartet. PULSE will be performing in Glen Arbor June 12-25 in off-stage places creating intimate experiences that close the gap between audiences and classical musicians. The first concert will be Friday\, June 16\, 7pm at the Glen Arbor Arts Center front porch. The final concert will be held at the Leelanau School Beach at 7 pm on June 22. \nPulse Saxophone will be hosted by the GAAC’s community partner\, Pine Street Studios. Manitou Music is a project of the Glen Arbor Arts Center. Reservations for admission are free and are available at GlenArborArt.Org/events. For more information\, please go to GlenArborArt.org\, or call 231/334-6112.
URL:https://www.visitglenarbor.com/event/2023-manitou-music-the-pulse-saxophone-quartet/
LOCATION:Glen Arbor Arts Center\, 6031 S. Lake Street\, Glen Arbor\, MI\, 49636
CATEGORIES:Music
ATTACH;FMTTYPE=image/jpeg:https://www.visitglenarbor.com/wp-content/uploads/2023/02/Pulse-quartet-copy.jpg
ORGANIZER;CN="Glen Arbor Arts Center":MAILTO:director@glenarborart.org
END:VEVENT
BEGIN:VEVENT
DTSTART;TZID=America/Detroit:20230622T100000
DTEND;TZID=America/Detroit:20230622T120000
DTSTAMP:20260423T052354
CREATED:20230619T182443Z
LAST-MODIFIED:20230619T182529Z
UID:10004901-1687428000-1687435200@www.visitglenarbor.com
SUMMARY:Kids Art Pop Up at the M22 Wine Patio
DESCRIPTION:Stop in for a fun morning of kids art at the M22 Wine Patio from 10am-12pm.
URL:https://www.visitglenarbor.com/event/kids-art-pop-up-at-the-m22-wine-patio/
LOCATION:M22 Outdoor Wine Patio\, 6298 W. Western Ave\, Glen Arbor\, MI\, 49636\, United States
CATEGORIES:Kids + Family Friendly
ATTACH;FMTTYPE=image/jpeg:https://www.visitglenarbor.com/wp-content/uploads/2023/06/IMG-5382-scaled-e1687199122815.jpg
END:VEVENT
BEGIN:VEVENT
DTSTART;TZID=America/Detroit:20230622T110000
DTEND;TZID=America/Detroit:20230622T120000
DTSTAMP:20260423T052354
CREATED:20230619T182412Z
LAST-MODIFIED:20230619T182412Z
UID:10004900-1687431600-1687435200@www.visitglenarbor.com
SUMMARY:Glen Lake Library - Yoga for Youngsters
DESCRIPTION:Join us Thursday\, June 22nd @ 11:00 AM for yoga for kids of all ages at the Glen Lake Library in Empire. Learn some new moves and make some new friends with yoga instructor Hollie Anderson. No sign up is required but do bring a mat or a towel along.
URL:https://www.visitglenarbor.com/event/glen-lake-library-yoga-for-youngsters/
LOCATION:Glen Lake Community Library\, 10115 Front Street\, Empire\, MI\, 49630\, United States
CATEGORIES:Community Events,Education,Kids + Family Friendly
ATTACH;FMTTYPE=image/jpeg:https://www.visitglenarbor.com/wp-content/uploads/2023/06/kids-yoga.jpg
ORGANIZER;CN="Glen Lake Community Library":MAILTO:info@glenlakelibrary.net
END:VEVENT
BEGIN:VEVENT
DTSTART;TZID=America/Detroit:20230622T130000
DTEND;TZID=America/Detroit:20230622T131500
DTSTAMP:20260423T052354
CREATED:20230703T185009Z
LAST-MODIFIED:20230703T185009Z
UID:10004012-1687438800-1687439700@www.visitglenarbor.com
SUMMARY:Lyle Gun Demonstration
DESCRIPTION:The Lyle Gun is the only canon ever designed to save lives\, not take them. Watch the demonstration to find out more about this life-saving tool. The program lasts about 15 minutes. Arrive early as the program starts promptly at 1 pm.
URL:https://www.visitglenarbor.com/event/lyle-gun-demonstration/2023-06-22/
LOCATION:Coast Guard Station Maritime Museum\, Sleeping Bear Dunes Rd\, Glen Arbor \, MI\, 49664
CATEGORIES:Kids + Family Friendly
ATTACH;FMTTYPE=image/jpeg:https://www.visitglenarbor.com/wp-content/uploads/2023/07/Matt-Mohrman_Lyle-Gun-scaled.jpg
ORGANIZER;CN="Sleeping Bear Dunes National Lakeshore":MAILTO:SLBE_programs@nps.gov
END:VEVENT
BEGIN:VEVENT
DTSTART;TZID=America/Detroit:20230622T131500
DTEND;TZID=America/Detroit:20230622T150000
DTSTAMP:20260423T052354
CREATED:20230703T185019Z
LAST-MODIFIED:20230703T185019Z
UID:10004022-1687439700-1687446000@www.visitglenarbor.com
SUMMARY:Stations of the Storm
DESCRIPTION:Do you have what it takes to be a surfman of the US Lifesaving Service? To find out\, join park rangers on Thursdays from 1:15-3 pm at the Maritime Museum to complete a series of stations as part of the rescue duties of the surfman stationed the Sleeping Bear Point Station. \nStations will set up around the grounds of the Maritime Museum in Glen Haven where potential surfmen and women of all ages can try their hand at tossing out a lifering\, doing a lookout for potential ships in distress\, and participate in the Breeches Buoy demonstration to do a mock shipwreck rescue. \nMove through the stations at your own pace\, but expect to spend about 30 minutes (or more) if you would like to complete each activity.
URL:https://www.visitglenarbor.com/event/stations-of-the-storm/2023-06-22/
LOCATION:Coast Guard Station Maritime Museum\, Sleeping Bear Dunes Rd\, Glen Arbor \, MI\, 49664
CATEGORIES:Kids + Family Friendly
ATTACH;FMTTYPE=image/jpeg:https://www.visitglenarbor.com/wp-content/uploads/2023/07/Heroes-Program-15-with-Whip-Line-scaled.jpg
ORGANIZER;CN="Sleeping Bear Dunes National Lakeshore":MAILTO:SLBE_programs@nps.gov
END:VEVENT
BEGIN:VEVENT
DTSTART;TZID=America/Detroit:20230622T160000
DTEND;TZID=America/Detroit:20230622T190000
DTSTAMP:20260423T052354
CREATED:20230616T170526Z
LAST-MODIFIED:20230616T171523Z
UID:10004897-1687449600-1687460400@www.visitglenarbor.com
SUMMARY:French Valley Vineyard - LIVE MUSIC
DESCRIPTION:Join us for live music every Monday and Thursday from 4 to 7 PM. \nJUNE 19 – Patrick Murphy \nJUNE 22 – Bob Roberts \nJUNE 26 – Chris Skellenger & Andre Villoch \nJUNE 29 – Luke Woltanski & Dalton Sala
URL:https://www.visitglenarbor.com/event/live-music/2023-06-22/
LOCATION:French Valley Vineyard\, 3655 South French Road\, cedar\, MI\, 49621\, United States
CATEGORIES:Community Events,Kids + Family Friendly,Music,Wine/Beer or Tasting Event
ATTACH;FMTTYPE=image/png:https://www.visitglenarbor.com/wp-content/uploads/2023/06/LIVE-MUSIC.png
END:VEVENT
BEGIN:VEVENT
DTSTART;TZID=America/Detroit:20230622T170000
DTEND;TZID=America/Detroit:20230622T170000
DTSTAMP:20260423T052354
CREATED:20230605T181017Z
LAST-MODIFIED:20230614T175952Z
UID:10004816-1687453200-1687453200@www.visitglenarbor.com
SUMMARY:Chamber Connect: June 2023
DESCRIPTION:Join us on June 22nd from 5-7pm at Glen Arbor Wines. Members of the community\, local businesses and organizations are invited to connect with the Glen Lake Chamber in a social hour. From learning about business updates and meeting new people\, Chamber Connect is a chance to cultivate conversations and support each other. \nFree to attend. Open to Chamber and Non-Chamber members. Already a member? You’re encouraged to attend and invite a non-member\, neighbor\, friend\, or colleague. Four events are planned throughout the 2023 season
URL:https://www.visitglenarbor.com/event/chamber-connect-june-2023/
LOCATION:Glen Arbor Wines
CATEGORIES:Chamber Events,Community Events,Wine/Beer or Tasting Event
ATTACH;FMTTYPE=image/jpeg:https://www.visitglenarbor.com/wp-content/uploads/2020/03/Glen-Arbor-Wines-2019-03-21-2.jpg
END:VEVENT
BEGIN:VEVENT
DTSTART;TZID=America/Detroit:20230622T220000
DTEND;TZID=America/Detroit:20230622T235900
DTSTAMP:20260423T052354
CREATED:20230224T182331Z
LAST-MODIFIED:20230224T182405Z
UID:10003928-1687471200-1687478340@www.visitglenarbor.com
SUMMARY:Lanphier Observatory Public Viewing
DESCRIPTION:See the sky! The public is welcome to attend “Lanphier Observatory Public Viewings” on Wednesday & Thursday nights from 10 pm-Midnight (clear sky permitting!) at Leelanau School Beach\, June 21st-August 24th. \nDonation Students $4\, Adults $5. \nVisitors may park in any Leelanau School lot and walk down the scenic boardwalk\, across the Crystal River\, to the  Lanphier Observatory boardwalk.
URL:https://www.visitglenarbor.com/event/lanphier-observatory-public-viewing/2023-06-22/
LOCATION:Leelanau School\, 1 Old Homestead Rd\, Glen Arbor\, MI\, 49636\, United States
CATEGORIES:Community Events,Kids + Family Friendly,Recreation
ATTACH;FMTTYPE=image/jpeg:https://www.visitglenarbor.com/wp-content/uploads/2020/03/Observatory-Night-1-e1532113488695.jpg
END:VEVENT
END:VCALENDAR