BEGIN:VCALENDAR
VERSION:2.0
PRODID:-//Glen Lake Chamber of Commerce - ECPv6.15.19//NONSGML v1.0//EN
CALSCALE:GREGORIAN
METHOD:PUBLISH
X-ORIGINAL-URL:https://www.visitglenarbor.com
X-WR-CALDESC:Events for Glen Lake Chamber of Commerce
REFRESH-INTERVAL;VALUE=DURATION:PT1H
X-Robots-Tag:noindex
X-PUBLISHED-TTL:PT1H
BEGIN:VTIMEZONE
TZID:America/Detroit
BEGIN:DAYLIGHT
TZOFFSETFROM:-0500
TZOFFSETTO:-0400
TZNAME:EDT
DTSTART:20220313T070000
END:DAYLIGHT
BEGIN:STANDARD
TZOFFSETFROM:-0400
TZOFFSETTO:-0500
TZNAME:EST
DTSTART:20221106T060000
END:STANDARD
BEGIN:DAYLIGHT
TZOFFSETFROM:-0500
TZOFFSETTO:-0400
TZNAME:EDT
DTSTART:20230312T070000
END:DAYLIGHT
BEGIN:STANDARD
TZOFFSETFROM:-0400
TZOFFSETTO:-0500
TZNAME:EST
DTSTART:20231105T060000
END:STANDARD
BEGIN:DAYLIGHT
TZOFFSETFROM:-0500
TZOFFSETTO:-0400
TZNAME:EDT
DTSTART:20240310T070000
END:DAYLIGHT
BEGIN:STANDARD
TZOFFSETFROM:-0400
TZOFFSETTO:-0500
TZNAME:EST
DTSTART:20241103T060000
END:STANDARD
END:VTIMEZONE
BEGIN:VEVENT
DTSTART;TZID=America/Detroit:20230612T080000
DTEND;TZID=America/Detroit:20230625T170000
DTSTAMP:20260422T120449
CREATED:20230223T155836Z
LAST-MODIFIED:20230223T170852Z
UID:10003914-1686556800-1687712400@www.visitglenarbor.com
SUMMARY:2023 Manitou Music - The PULSE Saxophone Quartet
DESCRIPTION:The Glen Arbor Arts Center welcomes its 2023 musicians-in-residence\, Interlochen Public Radio’s The PULSE Saxophone Quartet. PULSE will be performing in Glen Arbor June 12-25 in off-stage places creating intimate experiences that close the gap between audiences and classical musicians. The first concert will be Friday\, June 16\, 7pm at the Glen Arbor Arts Center front porch. The final concert will be held at the Leelanau School Beach at 7 pm on June 22. \nPulse Saxophone will be hosted by the GAAC’s community partner\, Pine Street Studios. Manitou Music is a project of the Glen Arbor Arts Center. Reservations for admission are free and are available at GlenArborArt.Org/events. For more information\, please go to GlenArborArt.org\, or call 231/334-6112.
URL:https://www.visitglenarbor.com/event/2023-manitou-music-the-pulse-saxophone-quartet/
LOCATION:Glen Arbor Arts Center\, 6031 S. Lake Street\, Glen Arbor\, MI\, 49636
CATEGORIES:Music
ATTACH;FMTTYPE=image/jpeg:https://www.visitglenarbor.com/wp-content/uploads/2023/02/Pulse-quartet-copy.jpg
ORGANIZER;CN="Glen Arbor Arts Center":MAILTO:director@glenarborart.org
END:VEVENT
BEGIN:VEVENT
DTSTART;TZID=America/Detroit:20230617T090000
DTEND;TZID=America/Detroit:20230617T090000
DTSTAMP:20260422T120449
CREATED:20230614T185148Z
LAST-MODIFIED:20230616T122031Z
UID:10004892-1686992400-1686992400@www.visitglenarbor.com
SUMMARY:Used Book & Porch Sale
DESCRIPTION:Used book and porch sale at Glen Lake Manor on Father’s day weekend: \nSaturday\, June 17th from 9am-2pm AND \nSun the 18th from 9am-12pm. \nBuy dad a book or a treasure! Refreshments will be available for purchase.
URL:https://www.visitglenarbor.com/event/used-book-porch-sale/2023-06-17/
LOCATION:Glen Lake Manor\, 7345 Glenmere Rd\, Empire\, MI\, United States
CATEGORIES:Local Business Event,Shopping
ATTACH;FMTTYPE=image/jpeg:https://www.visitglenarbor.com/wp-content/uploads/2023/06/The-Manor-glen-lake.jpg
ORGANIZER;CN="Glen Lake Manor":MAILTO:theglenlakemanor@gmail.com
END:VEVENT
BEGIN:VEVENT
DTSTART;TZID=America/Detroit:20230617T100000
DTEND;TZID=America/Detroit:20230617T140000
DTSTAMP:20260422T120449
CREATED:20230606T162458Z
LAST-MODIFIED:20230606T162458Z
UID:10003997-1686996000-1687010400@www.visitglenarbor.com
SUMMARY:Volunteer Open House for Preserve Historic Sleeping Bear
DESCRIPTION:Come learn about volunteer opportunities at Preserve Historic Sleeping Bear. PHSB is a proud partner of the Sleeping Bear Dunes National Lakeshore celebrating 25 years of preserving and interpreting the rich heritage of historic structures and cultural landscapes of Sleeping Bear Dunes National Lakeshore \nVolunteer Opportunities include: \nPreservation projects\nOrchard pruning\nPort Oneida Heritage Center Greeters\nGardeners\nSpecial Event Volunteers \nIf you are a current volunteer stop by and learn about our current projects and new programs for the summer. There will be light refreshments served. The Open House will be held at the Port Oneida Heritage Center/Olsen Farm\, 3164 W Harbor Hwy. (Just 3 miles North of Glen Arbor) \nFor more information contact Stephanie at phsbpark2@gmail.com.
URL:https://www.visitglenarbor.com/event/volunteer-open-house-for-preserve-historic-sleeping-bear/
LOCATION:Port Oneida Heritage Center\, 3164 W. Harbor Hwy.\, Maple City\, Michigan\, 49630
CATEGORIES:Community Events,Education
ATTACH;FMTTYPE=image/jpeg:https://www.visitglenarbor.com/wp-content/uploads/2023/05/Olsen-Farm-Pic-from-First-Day-scaled.jpg
END:VEVENT
BEGIN:VEVENT
DTSTART;TZID=America/Detroit:20230617T110000
DTEND;TZID=America/Detroit:20230617T160000
DTSTAMP:20260422T120449
CREATED:20230613T193419Z
LAST-MODIFIED:20230614T174219Z
UID:10004888-1686999600-1687017600@www.visitglenarbor.com
SUMMARY:XTRATUF Pop Up at Coastl
DESCRIPTION:Join us this Saturday from 11am-4pm for an XTRATUF footwear pop up outside of Coastal! Get a sneak peek at the latest styles\, enter a giveaway and stop to see our current summer selections!
URL:https://www.visitglenarbor.com/event/xtratuf-pop-up-at-coastl/
LOCATION:Coastal\, Western Ave. (M22)\, Glen Arbor\, Michigan\, 49636
CATEGORIES:Shopping
ATTACH;FMTTYPE=image/jpeg:https://www.visitglenarbor.com/wp-content/uploads/2023/06/IMG_1438-scaled.jpeg
END:VEVENT
BEGIN:VEVENT
DTSTART;TZID=America/Detroit:20230617T170000
DTEND;TZID=America/Detroit:20230617T190000
DTSTAMP:20260422T120449
CREATED:20230410T222255Z
LAST-MODIFIED:20230410T222255Z
UID:10003967-1687021200-1687028400@www.visitglenarbor.com
SUMMARY:Live Music at the M22 Wine Patio with André Villoch
DESCRIPTION:Join us for Live Music at the M22 Wine Patio with André Villoch on Saturday\, June 17th from 5-7pm \nEnjoy a large pour or flight of our M22 Wines while listening to live music! With 15 wines\, hard cider\, and non-alcoholic options available\, there is something for everyone! \nAndré is a local singer-songwriter/comedian who has been playing in the area since 1998. A mix of original and cover songs conducive to sipping wine! \nHave a fun and relaxing evening with great music\, friends and family\, and wine with live music at the M22 Wine Patio with André Villoch.
URL:https://www.visitglenarbor.com/event/live-music-at-the-m22-wine-patio-with-andre-villoch-4/
LOCATION:M22 Outdoor Wine Patio\, 6298 W. Western Ave\, Glen Arbor\, MI\, 49636\, United States
CATEGORIES:Music,Wine/Beer or Tasting Event
ATTACH;FMTTYPE=image/jpeg:https://www.visitglenarbor.com/wp-content/uploads/2023/04/ANDRE-VILLOCH.jpeg
END:VEVENT
BEGIN:VEVENT
DTSTART;TZID=America/Detroit:20230617T190000
DTEND;TZID=America/Detroit:20230617T210000
DTSTAMP:20260422T120449
CREATED:20230508T161619Z
LAST-MODIFIED:20230508T161619Z
UID:10004841-1687028400-1687035600@www.visitglenarbor.com
SUMMARY:Rhett & John Live Music @ Glen Arbor Wines
DESCRIPTION:Relax and enjoy the tunes as Rhett belts out an eclectic lineup of acoustic pop.
URL:https://www.visitglenarbor.com/event/rhett-john-live-music-glen-arbor-wines/2023-06-17/
LOCATION:Glen Arbor Wines
CATEGORIES:Music
ATTACH;FMTTYPE=image/jpeg:https://www.visitglenarbor.com/wp-content/uploads/2023/05/rhettjohn.jpg
ORGANIZER;CN="Glen Arbor Wines":MAILTO:Glenarborwines@gmail.com
END:VEVENT
END:VCALENDAR