BEGIN:VCALENDAR
VERSION:2.0
PRODID:-//Glen Lake Chamber of Commerce - ECPv6.15.19//NONSGML v1.0//EN
CALSCALE:GREGORIAN
METHOD:PUBLISH
X-WR-CALNAME:Glen Lake Chamber of Commerce
X-ORIGINAL-URL:https://www.visitglenarbor.com
X-WR-CALDESC:Events for Glen Lake Chamber of Commerce
REFRESH-INTERVAL;VALUE=DURATION:PT1H
X-Robots-Tag:noindex
X-PUBLISHED-TTL:PT1H
BEGIN:VTIMEZONE
TZID:America/Detroit
BEGIN:DAYLIGHT
TZOFFSETFROM:-0500
TZOFFSETTO:-0400
TZNAME:EDT
DTSTART:20220313T070000
END:DAYLIGHT
BEGIN:STANDARD
TZOFFSETFROM:-0400
TZOFFSETTO:-0500
TZNAME:EST
DTSTART:20221106T060000
END:STANDARD
BEGIN:DAYLIGHT
TZOFFSETFROM:-0500
TZOFFSETTO:-0400
TZNAME:EDT
DTSTART:20230312T070000
END:DAYLIGHT
BEGIN:STANDARD
TZOFFSETFROM:-0400
TZOFFSETTO:-0500
TZNAME:EST
DTSTART:20231105T060000
END:STANDARD
BEGIN:DAYLIGHT
TZOFFSETFROM:-0500
TZOFFSETTO:-0400
TZNAME:EDT
DTSTART:20240310T070000
END:DAYLIGHT
BEGIN:STANDARD
TZOFFSETFROM:-0400
TZOFFSETTO:-0500
TZNAME:EST
DTSTART:20241103T060000
END:STANDARD
END:VTIMEZONE
BEGIN:VEVENT
DTSTART;TZID=America/Detroit:20230612T080000
DTEND;TZID=America/Detroit:20230625T170000
DTSTAMP:20260423T025439
CREATED:20230223T155836Z
LAST-MODIFIED:20230223T170852Z
UID:10003914-1686556800-1687712400@www.visitglenarbor.com
SUMMARY:2023 Manitou Music - The PULSE Saxophone Quartet
DESCRIPTION:The Glen Arbor Arts Center welcomes its 2023 musicians-in-residence\, Interlochen Public Radio’s The PULSE Saxophone Quartet. PULSE will be performing in Glen Arbor June 12-25 in off-stage places creating intimate experiences that close the gap between audiences and classical musicians. The first concert will be Friday\, June 16\, 7pm at the Glen Arbor Arts Center front porch. The final concert will be held at the Leelanau School Beach at 7 pm on June 22. \nPulse Saxophone will be hosted by the GAAC’s community partner\, Pine Street Studios. Manitou Music is a project of the Glen Arbor Arts Center. Reservations for admission are free and are available at GlenArborArt.Org/events. For more information\, please go to GlenArborArt.org\, or call 231/334-6112.
URL:https://www.visitglenarbor.com/event/2023-manitou-music-the-pulse-saxophone-quartet/
LOCATION:Glen Arbor Arts Center\, 6031 S. Lake Street\, Glen Arbor\, MI\, 49636
CATEGORIES:Music
ATTACH;FMTTYPE=image/jpeg:https://www.visitglenarbor.com/wp-content/uploads/2023/02/Pulse-quartet-copy.jpg
ORGANIZER;CN="Glen Arbor Arts Center":MAILTO:director@glenarborart.org
END:VEVENT
BEGIN:VEVENT
DTSTART;TZID=America/Detroit:20230616T170000
DTEND;TZID=America/Detroit:20230616T200000
DTSTAMP:20260423T025439
CREATED:20230606T162549Z
LAST-MODIFIED:20230606T162602Z
UID:10004860-1686934800-1686945600@www.visitglenarbor.com
SUMMARY:Late Night Fridays
DESCRIPTION:The Glen Arbor Arts Center is keeping the lights on a little longer this summer on Friday nights. Late Night Fridays continues June 16 with a front porch concert featuring the PULSE Saxophone Quartet\, 7 – 8 pm. This unique chamber ensemble is the GAAC’s 2023 Musicians-in-Residence\, part of the Manitou Music Series. Read more about the ensemble here: GlenArborArt.org / EVENTS. Bring a chair. The concert is free. \nDoors open at 5 pm. Both GAAC galleries are open 5 – 8 pm that night. In the GAAC Main Gallery is the 2023 Members Create\, an exhibition of work by 49 GAAC members. In the Lobby Gallery: The Birds Are Watching\, mixed media constructions by Jessica Kovan. Read more about the exhibits here: GlenArborArt.org / EXHIBITS.
URL:https://www.visitglenarbor.com/event/late-night-fridays-10/
LOCATION:MI\, United States
CATEGORIES:Art/Gallery/Exhibit,Music
ATTACH;FMTTYPE=image/jpeg:https://www.visitglenarbor.com/wp-content/uploads/2023/05/LateNightFridays_2023_FB-2.jpg
END:VEVENT
BEGIN:VEVENT
DTSTART;TZID=America/Detroit:20230616T170000
DTEND;TZID=America/Detroit:20230616T210000
DTSTAMP:20260423T025439
CREATED:20230508T161227Z
LAST-MODIFIED:20230508T161227Z
UID:10004830-1686934800-1686949200@www.visitglenarbor.com
SUMMARY:Luke Woltanski @ Glen Arbor Wines
DESCRIPTION:Relax and enjoy the music of the incredibly talented Luke Woltanski on the front porch @ Glen Arbor Wines Friday evenings from 7 to 9 p.m. throughout the summer beginning June 9.
URL:https://www.visitglenarbor.com/event/luke-woltanski-glen-arbor-wines/2023-06-16/
LOCATION:Glen Arbor Wines
CATEGORIES:Music
ATTACH;FMTTYPE=image/jpeg:https://www.visitglenarbor.com/wp-content/uploads/2023/05/luke.jpg
ORGANIZER;CN="Glen Arbor Wines":MAILTO:Glenarborwines@gmail.com
END:VEVENT
END:VCALENDAR