BEGIN:VCALENDAR
VERSION:2.0
PRODID:-//Glen Lake Chamber of Commerce - ECPv6.15.19//NONSGML v1.0//EN
CALSCALE:GREGORIAN
METHOD:PUBLISH
X-WR-CALNAME:Glen Lake Chamber of Commerce
X-ORIGINAL-URL:https://www.visitglenarbor.com
X-WR-CALDESC:Events for Glen Lake Chamber of Commerce
REFRESH-INTERVAL;VALUE=DURATION:PT1H
X-Robots-Tag:noindex
X-PUBLISHED-TTL:PT1H
BEGIN:VTIMEZONE
TZID:America/Detroit
BEGIN:DAYLIGHT
TZOFFSETFROM:-0500
TZOFFSETTO:-0400
TZNAME:EDT
DTSTART:20220313T070000
END:DAYLIGHT
BEGIN:STANDARD
TZOFFSETFROM:-0400
TZOFFSETTO:-0500
TZNAME:EST
DTSTART:20221106T060000
END:STANDARD
BEGIN:DAYLIGHT
TZOFFSETFROM:-0500
TZOFFSETTO:-0400
TZNAME:EDT
DTSTART:20230312T070000
END:DAYLIGHT
BEGIN:STANDARD
TZOFFSETFROM:-0400
TZOFFSETTO:-0500
TZNAME:EST
DTSTART:20231105T060000
END:STANDARD
BEGIN:DAYLIGHT
TZOFFSETFROM:-0500
TZOFFSETTO:-0400
TZNAME:EDT
DTSTART:20240310T070000
END:DAYLIGHT
BEGIN:STANDARD
TZOFFSETFROM:-0400
TZOFFSETTO:-0500
TZNAME:EST
DTSTART:20241103T060000
END:STANDARD
END:VTIMEZONE
BEGIN:VEVENT
DTSTART;TZID=America/Detroit:20230609T103000
DTEND;TZID=America/Detroit:20230609T113000
DTSTAMP:20260422T203106
CREATED:20230519T205558Z
LAST-MODIFIED:20230519T205558Z
UID:10003993-1686306600-1686310200@www.visitglenarbor.com
SUMMARY:By the Sea:  the Ocean as Muse
DESCRIPTION:In recognition of the U.N.’s World Oceans Day\, art lecturer Linda Young presents an illustrated talk Highlighting works by 19th and 20th century artists. Her “arm chair traveler” program will cover paintings across the glove including the Arctic\, the coast of Denmark\, the Mediterranean\, the eastern sea board of the US and the Caribbean. Please register for this event on June 9 – 10:30 a.m. by calling the library @ 231.326.5361.
URL:https://www.visitglenarbor.com/event/by-the-sea-the-ocean-as-muse-2/
LOCATION:Glen Lake Community Library\, 10115 Front Street\, Empire\, MI\, 49630\, United States
CATEGORIES:Community Events,Education
ORGANIZER;CN="Glen Lake Community Library":MAILTO:info@glenlakelibrary.net
END:VEVENT
BEGIN:VEVENT
DTSTART;TZID=America/Detroit:20230609T120000
DTEND;TZID=America/Detroit:20230609T130000
DTSTAMP:20260422T203106
CREATED:20230408T052608Z
LAST-MODIFIED:20230410T222834Z
UID:10004812-1686312000-1686315600@www.visitglenarbor.com
SUMMARY:Artist In Residence Presentation - Ruth Trok
DESCRIPTION:Pennsylvania artist Ruth Trok will use her Glen Arbor Arts Center residency to produce a body of porcelain pots and vessels that explore the interaction between native and invasive species in Leelanau County. Trok\, a ceramist\, will talk about her project during a public presentation June 9\, noon\, at the GAAC\, 6031 S. Lake St.\, Glen Arbor. The presentation is free. \nSince the 1990s\, the GAAC has welcomed visiting artists who want to immerse themselves in their work. The GAAC’s Artist-in-Residence program offers up to seven\, creative practitioners a two-week respite from their daily lives in order to focus on a new idea that needs space\, or to develop an on-going project. For more information go to GlenArborArt.org/EVENTS.
URL:https://www.visitglenarbor.com/event/artist-in-residence-presentation-ruth-trok/
LOCATION:Glen Arbor Arts Center\, 6031 S. Lake Street\, Glen Arbor\, MI\, 49636
CATEGORIES:Art/Gallery/Exhibit
ATTACH;FMTTYPE=image/jpeg:https://www.visitglenarbor.com/wp-content/uploads/2023/04/Trok_Ruth_luminary-soda-fired.jpg
ORGANIZER;CN="Glen Arbor Arts Center":MAILTO:director@glenarborart.org
END:VEVENT
BEGIN:VEVENT
DTSTART;TZID=America/Detroit:20230609T170000
DTEND;TZID=America/Detroit:20230609T190000
DTSTAMP:20260422T203106
CREATED:20230512T173512Z
LAST-MODIFIED:20230512T173512Z
UID:10004882-1686330000-1686337200@www.visitglenarbor.com
SUMMARY:Members Create Opening Reception
DESCRIPTION:An annual tradition returns to the Glen Arbor Arts Center. Members Create\, an exhibition showcasing GAAC members’ talent\, opens in the GAAC Main Gallery with a reception June 9\, 5- 8 pm. The exhibit features the work of 49 current members\, in an array of work: 2D + 3D media including: clay\, collage\, fiber\, mixed media\, painting\, printmaking\, photography\, sculpture\, and more. \nMembers Create may also be viewed online. The virtual version may be found at: GlenArborArt.org/EXHIBITS. Members Create is on display through August 10. The GAAC is located at 6031 S. Lake St.\, Glen Arbor.
URL:https://www.visitglenarbor.com/event/members-create-opening-reception/
LOCATION:Glen Arbor Arts Center\, 6031 S. Lake Street\, Glen Arbor\, MI\, 49636
CATEGORIES:Art/Gallery/Exhibit
ATTACH;FMTTYPE=image/jpeg:https://www.visitglenarbor.com/wp-content/uploads/2023/05/MembersCreate_2023B_FB-scaled.jpg
ORGANIZER;CN="Glen Arbor Arts Center":MAILTO:director@glenarborart.org
END:VEVENT
BEGIN:VEVENT
DTSTART;TZID=America/Detroit:20230609T170000
DTEND;TZID=America/Detroit:20230609T200000
DTSTAMP:20260422T203106
CREATED:20230511T212730Z
LAST-MODIFIED:20230511T212730Z
UID:10004858-1686330000-1686340800@www.visitglenarbor.com
SUMMARY:Late Night Fridays
DESCRIPTION:The Glen Arbor Arts Center is keeping the lights on a little longer this summer. Late Night Fridays kicks off Friday\, June 9 with an opening reception for Members Create. This annual exhibition showcases the talents of 49 GAAC members\, including painting\, mixed media\, sculpture\, clay and more in the GAAC Main Gallery\, 5 – 8 pm. The Birds Are Watching\, mixed media constructions by Jessica Kovan\, are on view in the Lobby Gallery.\nThe GAAC is located at 6031 S. Lake St.\, Glen Arbor. Read more at GlenArborArt.org / EXHIBITS.
URL:https://www.visitglenarbor.com/event/late-night-fridays/
LOCATION:Glen Arbor Arts Center\, 6031 S. Lake Street\, Glen Arbor\, MI\, 49636
ATTACH;FMTTYPE=image/jpeg:https://www.visitglenarbor.com/wp-content/uploads/2023/05/LateNightFridays_2023_FB.jpg
ORGANIZER;CN="Glen Arbor Arts Center":MAILTO:director@glenarborart.org
END:VEVENT
BEGIN:VEVENT
DTSTART;TZID=America/Detroit:20230609T170000
DTEND;TZID=America/Detroit:20230609T210000
DTSTAMP:20260422T203106
CREATED:20230508T161227Z
LAST-MODIFIED:20230508T161227Z
UID:10004829-1686330000-1686344400@www.visitglenarbor.com
SUMMARY:Luke Woltanski @ Glen Arbor Wines
DESCRIPTION:Relax and enjoy the music of the incredibly talented Luke Woltanski on the front porch @ Glen Arbor Wines Friday evenings from 7 to 9 p.m. throughout the summer beginning June 9.
URL:https://www.visitglenarbor.com/event/luke-woltanski-glen-arbor-wines/2023-06-09/
LOCATION:Glen Arbor Wines
CATEGORIES:Music
ATTACH;FMTTYPE=image/jpeg:https://www.visitglenarbor.com/wp-content/uploads/2023/05/luke.jpg
ORGANIZER;CN="Glen Arbor Wines":MAILTO:Glenarborwines@gmail.com
END:VEVENT
END:VCALENDAR