BEGIN:VCALENDAR
VERSION:2.0
PRODID:-//Glen Lake Chamber of Commerce - ECPv6.15.19//NONSGML v1.0//EN
CALSCALE:GREGORIAN
METHOD:PUBLISH
X-WR-CALNAME:Glen Lake Chamber of Commerce
X-ORIGINAL-URL:https://www.visitglenarbor.com
X-WR-CALDESC:Events for Glen Lake Chamber of Commerce
REFRESH-INTERVAL;VALUE=DURATION:PT1H
X-Robots-Tag:noindex
X-PUBLISHED-TTL:PT1H
BEGIN:VTIMEZONE
TZID:America/Detroit
BEGIN:DAYLIGHT
TZOFFSETFROM:-0500
TZOFFSETTO:-0400
TZNAME:EDT
DTSTART:20220313T070000
END:DAYLIGHT
BEGIN:STANDARD
TZOFFSETFROM:-0400
TZOFFSETTO:-0500
TZNAME:EST
DTSTART:20221106T060000
END:STANDARD
BEGIN:DAYLIGHT
TZOFFSETFROM:-0500
TZOFFSETTO:-0400
TZNAME:EDT
DTSTART:20230312T070000
END:DAYLIGHT
BEGIN:STANDARD
TZOFFSETFROM:-0400
TZOFFSETTO:-0500
TZNAME:EST
DTSTART:20231105T060000
END:STANDARD
BEGIN:DAYLIGHT
TZOFFSETFROM:-0500
TZOFFSETTO:-0400
TZNAME:EDT
DTSTART:20240310T070000
END:DAYLIGHT
BEGIN:STANDARD
TZOFFSETFROM:-0400
TZOFFSETTO:-0500
TZNAME:EST
DTSTART:20241103T060000
END:STANDARD
END:VTIMEZONE
BEGIN:VEVENT
DTSTART;TZID=America/Detroit:20230603T170000
DTEND;TZID=America/Detroit:20230603T190000
DTSTAMP:20260419T112919
CREATED:20230410T222731Z
LAST-MODIFIED:20230410T222731Z
UID:10003963-1685811600-1685818800@www.visitglenarbor.com
SUMMARY:Live Music at the M22 Wine Patio with Dennis Palmer
DESCRIPTION:Join us out on the M22 Wine Patio Saturday\, June 3rd from 5-7pm for live music featuring local musician Dennis Palmer. With 16 different wines available\, relax with a glass or flight and enjoy! \nDennis has released 5 CDs of original music ranging from Acoustic Blues to Contemporary Folk. With an eclectic style that is both introspective and thought provoking – his music has raised comparisons to such Artists as Gordon Lightfoot & Warren Zevon…\nBorn & raised near Saginaw Michigan – Dennis now lives in Leelanau County among the Places and People that continue to inspire much of his music.\nPalmer is a thoughtful\, multi-talented singer-songwriter.
URL:https://www.visitglenarbor.com/event/live-music-at-the-m22-wine-patio-with-dennis-palmer/
LOCATION:M22 Outdoor Wine Patio\, 6298 W. Western Ave\, Glen Arbor\, MI\, 49636\, United States
CATEGORIES:Music
ATTACH;FMTTYPE=image/jpeg:https://www.visitglenarbor.com/wp-content/uploads/2023/04/Dennispalmer-1.jpeg
END:VEVENT
BEGIN:VEVENT
DTSTART;TZID=America/Detroit:20230603T190000
DTEND;TZID=America/Detroit:20230603T210000
DTSTAMP:20260419T112920
CREATED:20230508T161619Z
LAST-MODIFIED:20230508T161619Z
UID:10004840-1685818800-1685826000@www.visitglenarbor.com
SUMMARY:Rhett & John Live Music @ Glen Arbor Wines
DESCRIPTION:Relax and enjoy the tunes as Rhett belts out an eclectic lineup of acoustic pop.
URL:https://www.visitglenarbor.com/event/rhett-john-live-music-glen-arbor-wines/2023-06-03/
LOCATION:Glen Arbor Wines
CATEGORIES:Music
ATTACH;FMTTYPE=image/jpeg:https://www.visitglenarbor.com/wp-content/uploads/2023/05/rhettjohn.jpg
ORGANIZER;CN="Glen Arbor Wines":MAILTO:Glenarborwines@gmail.com
END:VEVENT
END:VCALENDAR