BEGIN:VCALENDAR
VERSION:2.0
PRODID:-//Glen Lake Chamber of Commerce - ECPv6.15.19//NONSGML v1.0//EN
CALSCALE:GREGORIAN
METHOD:PUBLISH
X-WR-CALNAME:Glen Lake Chamber of Commerce
X-ORIGINAL-URL:https://www.visitglenarbor.com
X-WR-CALDESC:Events for Glen Lake Chamber of Commerce
REFRESH-INTERVAL;VALUE=DURATION:PT1H
X-Robots-Tag:noindex
X-PUBLISHED-TTL:PT1H
BEGIN:VTIMEZONE
TZID:America/Detroit
BEGIN:DAYLIGHT
TZOFFSETFROM:-0500
TZOFFSETTO:-0400
TZNAME:EDT
DTSTART:20220313T070000
END:DAYLIGHT
BEGIN:STANDARD
TZOFFSETFROM:-0400
TZOFFSETTO:-0500
TZNAME:EST
DTSTART:20221106T060000
END:STANDARD
BEGIN:DAYLIGHT
TZOFFSETFROM:-0500
TZOFFSETTO:-0400
TZNAME:EDT
DTSTART:20230312T070000
END:DAYLIGHT
BEGIN:STANDARD
TZOFFSETFROM:-0400
TZOFFSETTO:-0500
TZNAME:EST
DTSTART:20231105T060000
END:STANDARD
BEGIN:DAYLIGHT
TZOFFSETFROM:-0500
TZOFFSETTO:-0400
TZNAME:EDT
DTSTART:20240310T070000
END:DAYLIGHT
BEGIN:STANDARD
TZOFFSETFROM:-0400
TZOFFSETTO:-0500
TZNAME:EST
DTSTART:20241103T060000
END:STANDARD
END:VTIMEZONE
BEGIN:VEVENT
DTSTART;TZID=America/Detroit:20230322T173000
DTEND;TZID=America/Detroit:20230322T183000
DTSTAMP:20260422T203106
CREATED:20211004T141427Z
LAST-MODIFIED:20211004T141427Z
UID:10004457-1679506200-1679509800@www.visitglenarbor.com
SUMMARY:Yen Yoga at Nature
DESCRIPTION:Join us in an inspiring space for a community yoga class\, held weekly on Wednesday’s at 5:30 pm. Hosted at Nature in Maple City by Yen Yoga & Fitness. \nThis ia an all-level yoga flow class. Please bring your own yoga mat and practice social distancing. \nSign up to participate is required at yenyogafitness.com  You may sign up online up to 8 days in advance\, or feel free to call us at 231-421-5496
URL:https://www.visitglenarbor.com/event/yen-yoga-at-nature/2023-03-22/
LOCATION:Nature\, 2988 W Burdickville Rd\, Maple City\, MI\, 49664\, United States
CATEGORIES:Community Events,Kids + Family Friendly,Recreation
ATTACH;FMTTYPE=image/png:https://www.visitglenarbor.com/wp-content/uploads/2021/03/Green-Inspirational-Spring-Quote-Facebook-Post.png
ORGANIZER;CN="Nature - A Michigan Retreat":MAILTO:admin@naturemichigan.com
END:VEVENT
BEGIN:VEVENT
DTSTART;TZID=America/Detroit:20230322T180000
DTEND;TZID=America/Detroit:20230322T200000
DTSTAMP:20260422T203106
CREATED:20230207T212644Z
LAST-MODIFIED:20230207T212644Z
UID:10004780-1679508000-1679515200@www.visitglenarbor.com
SUMMARY:P-45 Brings ‘SMOKEFALL’ To The GAAC
DESCRIPTION:Parallel 45 Theatre returns to the Glen Arbor Arts Center with a dose of magical realism. A performance of “Smokefall” takes place March 22\, 6 pm in the GAAC Main Gallery. Tickets are $10. Seating is by reservation and limited. \nWritten by Noah Haidle\, “Smokefall” combines magical realism with manic vaudeville to create an unexpected family drama. From tenderness to profound humor and back again\, “Smokefall” explores the lives of a family in a lyrical treatise on the fragility of life and the power of love. Sarah Bielman directs Parallel 45’s reading theater production of “Smokefall.” The cast is Kat Bodie\, Tom Emmot\, Dane Moeggennberg\, Brett Nichols\, and Miishen Willis. \nTo reserve seats\, go to GlenArborArt.org / EVENTS. Tickets must be purchased in advance. Doors open at 5 pm. The GAAC is located at 6031 S. Lake St.\, Glen Arbor. Parallel 45 is based in Traverse City\, and has presented professional theater productions since 2013.
URL:https://www.visitglenarbor.com/event/p-45-brings-smokefall-to-the-gaac/
LOCATION:Glen Arbor Arts Center\, 6031 S. Lake Street\, Glen Arbor\, MI\, 49636
CATEGORIES:Art/Gallery/Exhibit
ATTACH;FMTTYPE=image/jpeg:https://www.visitglenarbor.com/wp-content/uploads/2023/02/p45-smokefall.jpg
ORGANIZER;CN="Glen Arbor Arts Center":MAILTO:director@glenarborart.org
END:VEVENT
END:VCALENDAR