BEGIN:VCALENDAR
VERSION:2.0
PRODID:-//Glen Lake Chamber of Commerce - ECPv6.15.19//NONSGML v1.0//EN
CALSCALE:GREGORIAN
METHOD:PUBLISH
X-WR-CALNAME:Glen Lake Chamber of Commerce
X-ORIGINAL-URL:https://www.visitglenarbor.com
X-WR-CALDESC:Events for Glen Lake Chamber of Commerce
REFRESH-INTERVAL;VALUE=DURATION:PT1H
X-Robots-Tag:noindex
X-PUBLISHED-TTL:PT1H
BEGIN:VTIMEZONE
TZID:America/Detroit
BEGIN:DAYLIGHT
TZOFFSETFROM:-0500
TZOFFSETTO:-0400
TZNAME:EDT
DTSTART:20210314T070000
END:DAYLIGHT
BEGIN:STANDARD
TZOFFSETFROM:-0400
TZOFFSETTO:-0500
TZNAME:EST
DTSTART:20211107T060000
END:STANDARD
BEGIN:DAYLIGHT
TZOFFSETFROM:-0500
TZOFFSETTO:-0400
TZNAME:EDT
DTSTART:20220313T070000
END:DAYLIGHT
BEGIN:STANDARD
TZOFFSETFROM:-0400
TZOFFSETTO:-0500
TZNAME:EST
DTSTART:20221106T060000
END:STANDARD
BEGIN:DAYLIGHT
TZOFFSETFROM:-0500
TZOFFSETTO:-0400
TZNAME:EDT
DTSTART:20230312T070000
END:DAYLIGHT
BEGIN:STANDARD
TZOFFSETFROM:-0400
TZOFFSETTO:-0500
TZNAME:EST
DTSTART:20231105T060000
END:STANDARD
END:VTIMEZONE
BEGIN:VEVENT
DTSTART;TZID=America/Detroit:20221208T180000
DTEND;TZID=America/Detroit:20221208T210000
DTSTAMP:20260422T222858
CREATED:20221121T183249Z
LAST-MODIFIED:20230126T202602Z
UID:10004698-1670522400-1670533200@www.visitglenarbor.com
SUMMARY:Blotter Reading/Game @ Glen Arbor Wines
DESCRIPTION:Join Darci Ricker at Glen Arbor Wines every Thursday for a fun weekly winter gathering. She presents a humorous reading of the (humorous) weekly Leelanau Enterprise Police Blotter calls. Stay for the infamous “Blotter Backstory” contest\, in which participants write the backstory/endings of the most humorous calls. Prizes are given for most creative!
URL:https://www.visitglenarbor.com/event/blotter-reading-game-glen-arbor-wines/2022-12-08/
LOCATION:Glen Arbor Wines
CATEGORIES:Local Business Event,Wine/Beer or Tasting Event
ATTACH;FMTTYPE=image/jpeg:https://www.visitglenarbor.com/wp-content/uploads/2022/11/blotter-reading-glen-arbor-wines-event.jpg
END:VEVENT
BEGIN:VEVENT
DTSTART;TZID=America/Detroit:20221208T193000
DTEND;TZID=America/Detroit:20221208T210000
DTSTAMP:20260422T222858
CREATED:20221205T185445Z
LAST-MODIFIED:20221205T185445Z
UID:10004732-1670527800-1670533200@www.visitglenarbor.com
SUMMARY:A Christmas Carol
DESCRIPTION:THE GLEN ARBOR PLAYERS PRESENT “A CHRISTMAS CAROL” \nIn the spirit of the Christmas season\, we will be presenting “A Christmas Carol” on December 8-10 th at the Glen Lake Church\, 4902 West Macfarlane in Glen Arbor. The play will be performed in a reader’s theater format with a very experienced cast. Each play will start at 7:30 pm and there is no charge for admission. Donations are accepted and refreshments will be served. \nIncorporating the festivity of the season and the spirit of redemption\, Charles Dicken’s classic tale has never been out of print since it’s release in 1843. The novel proved very effective in promoting renewed enthusiasm for the joys of Christmas in both Britain and America. A Christmas Carol has been adapted countless times for film\, stage\, opera and other media over the years. The story is one of the most read and watched in history. \nThe Glen Arbor Players will be performing the play as a re-enactment of the first show of the “Mayor of the Town” radio program which was broadcast starring Lionel Barrymore in 1942. \nMore information available at (231)409-4421 or www.GlenArborPlayers.org
URL:https://www.visitglenarbor.com/event/a-christmas-carol/2022-12-08/
LOCATION:Glen Lake Community Reformed Church\, 4902 W. MacFarlane Rd.\, Glen Arbor\, MI\, 49636\, United States
CATEGORIES:Kids + Family Friendly,Recreation
ATTACH;FMTTYPE=image/jpeg:https://www.visitglenarbor.com/wp-content/uploads/2022/12/A-Christmas-Carol-Alternate-Poster.jpg
ORGANIZER;CN="Glen Arbor Players":MAILTO:TeddyH@centurytel.net
END:VEVENT
END:VCALENDAR