BEGIN:VCALENDAR
VERSION:2.0
PRODID:-//Glen Lake Chamber of Commerce - ECPv6.15.19//NONSGML v1.0//EN
CALSCALE:GREGORIAN
METHOD:PUBLISH
X-ORIGINAL-URL:https://www.visitglenarbor.com
X-WR-CALDESC:Events for Glen Lake Chamber of Commerce
REFRESH-INTERVAL;VALUE=DURATION:PT1H
X-Robots-Tag:noindex
X-PUBLISHED-TTL:PT1H
BEGIN:VTIMEZONE
TZID:America/Detroit
BEGIN:DAYLIGHT
TZOFFSETFROM:-0500
TZOFFSETTO:-0400
TZNAME:EDT
DTSTART:20210314T070000
END:DAYLIGHT
BEGIN:STANDARD
TZOFFSETFROM:-0400
TZOFFSETTO:-0500
TZNAME:EST
DTSTART:20211107T060000
END:STANDARD
BEGIN:DAYLIGHT
TZOFFSETFROM:-0500
TZOFFSETTO:-0400
TZNAME:EDT
DTSTART:20220313T070000
END:DAYLIGHT
BEGIN:STANDARD
TZOFFSETFROM:-0400
TZOFFSETTO:-0500
TZNAME:EST
DTSTART:20221106T060000
END:STANDARD
BEGIN:DAYLIGHT
TZOFFSETFROM:-0500
TZOFFSETTO:-0400
TZNAME:EDT
DTSTART:20230312T070000
END:DAYLIGHT
BEGIN:STANDARD
TZOFFSETFROM:-0400
TZOFFSETTO:-0500
TZNAME:EST
DTSTART:20231105T060000
END:STANDARD
END:VTIMEZONE
BEGIN:VEVENT
DTSTART;TZID=America/Detroit:20220707T110000
DTEND;TZID=America/Detroit:20220910T121500
DTSTAMP:20260424T065019
CREATED:20220728T160546Z
LAST-MODIFIED:20220801T164729Z
UID:10004667-1657191600-1662812100@www.visitglenarbor.com
SUMMARY:Horse and Wagon Tours
DESCRIPTION:Tuesdays and Thursdays 9:30 am and 11 am \n1.25 hour tour $28 adults $18 children 4-12Clip clop back in time to experience the Port Oneida Rural Historic District the way they did in the late 1800s – early 1900s! Learn about the life of the early pioneers\, and their landscape as we travel by horse and wagon through the fields and side roads of this significant agricultural community of over 100 years\, with beautiful vistas and farmsteads. \nBring your family and friends on this unique\, educational\, narrated experience. \nOur Horses: The stars of the tours are our two Belgium horses Nick and May. You will learn more about the horses on the tour! \nReservations required. PLEASE MAKE YOUR RESERVATIONS EARLY! \nWagon holds 12-14 people. We need a minimum of 7 reservations to conduct the tour. You will receive a confirmation of your tour when the minimum has been reached.
URL:https://www.visitglenarbor.com/event/horse-and-wagon-tours-12/
LOCATION:Port Oneida Heritage Center\, 3164 W. Harbor Hwy.\, Maple City\, Michigan\, 49630
CATEGORIES:Kids + Family Friendly
ATTACH;FMTTYPE=image/jpeg:https://www.visitglenarbor.com/wp-content/uploads/2022/07/Doug-Grosso-horses-1.jpg
END:VEVENT
BEGIN:VEVENT
DTSTART;TZID=America/Detroit:20220721T110000
DTEND;TZID=America/Detroit:20220721T120000
DTSTAMP:20260424T065019
CREATED:20250724T171208Z
LAST-MODIFIED:20250724T171208Z
UID:10003263-1658401200-1658404800@www.visitglenarbor.com
SUMMARY:Glen Lake Library's Summer Kid's Programs Continue!
DESCRIPTION:Glen Lake Library is calling ALL kids who are interested in drawing.  Our next Summer Reading Program\, on July 21st at 11 a.m.\, features area artist Rebecca Howe.  With her expertise she’ll show you how to draw a variety of ocean animals.  All materials are provided.  Hope to see ALL of you then!  On the following Thursday\, July 28th at 11 a.m.\, our summer kid’s programming continues with an outdoor concert featuring our favorite musicians Luunappi.  Weather permitting\, we’ll ALL be in our lovely garden area in the back of the library.  So bring a blanket or a chair and join the fun with stories and songs and music.  In case of inclement weather we’ll be concerting in our program room.
URL:https://www.visitglenarbor.com/event/glen-lake-librarys-summer-kids-programs-continue/
LOCATION:Glen Lake Community Library\, 10115 Front Street\, Empire\, MI\, 49630\, United States
ATTACH;FMTTYPE=image/png:https://www.visitglenarbor.com/wp-content/uploads/2022/07/whale-2.png
END:VEVENT
BEGIN:VEVENT
DTSTART;TZID=America/Detroit:20220721T160000
DTEND;TZID=America/Detroit:20220721T190000
DTSTAMP:20260424T065019
CREATED:20220607T011533Z
LAST-MODIFIED:20220607T011810Z
UID:10004621-1658419200-1658430000@www.visitglenarbor.com
SUMMARY:LIVE MUSIC AT FRENCH VALLEY VINEYARD
DESCRIPTION:Join us every Thursday from 4-7pm for live music at French Valley Vineyard. To see the full music line up visit https://fvvineyard.com/events-at-french-valley-vineyard/
URL:https://www.visitglenarbor.com/event/live-music-at-french-valley-vineyard/2022-07-21/
LOCATION:MI\, United States
CATEGORIES:Kids + Family Friendly,Music,Wine/Beer or Tasting Event
ATTACH;FMTTYPE=image/jpeg:https://www.visitglenarbor.com/wp-content/uploads/2022/06/FVV-MUSIC-Pink-FB-e1659375382561.jpg
END:VEVENT
BEGIN:VEVENT
DTSTART;TZID=America/Detroit:20220721T183000
DTEND;TZID=America/Detroit:20220721T200000
DTSTAMP:20260424T065019
CREATED:20220627T162849Z
LAST-MODIFIED:20220627T162849Z
UID:10004649-1658428200-1658433600@www.visitglenarbor.com
SUMMARY:Car Show/Cruise Nights
DESCRIPTION:Cruise your classic hardware to Northwoods Hardware in Glen Arbor during July & August on Thursday nights at 6:30pm.
URL:https://www.visitglenarbor.com/event/car-show-cruise-nights-2/2022-07-21/
LOCATION:Northwoods Hardware Home + Garden\, 6053 S. Glen Lake Rd\, (Off of M-22)\, Glen Arbor\, MI\, 49636\, United States
CATEGORIES:Recreation
ATTACH;FMTTYPE=image/jpeg:https://www.visitglenarbor.com/wp-content/uploads/2022/06/Cruise-Night-2022-Flyer-single-northwoods-glen-arbor-scaled-e1656347324762.jpg
END:VEVENT
END:VCALENDAR