BEGIN:VCALENDAR
VERSION:2.0
PRODID:-//Glen Lake Chamber of Commerce - ECPv6.15.19//NONSGML v1.0//EN
CALSCALE:GREGORIAN
METHOD:PUBLISH
X-ORIGINAL-URL:https://www.visitglenarbor.com
X-WR-CALDESC:Events for Glen Lake Chamber of Commerce
REFRESH-INTERVAL;VALUE=DURATION:PT1H
X-Robots-Tag:noindex
X-PUBLISHED-TTL:PT1H
BEGIN:VTIMEZONE
TZID:America/Detroit
BEGIN:DAYLIGHT
TZOFFSETFROM:-0500
TZOFFSETTO:-0400
TZNAME:EDT
DTSTART:20210314T070000
END:DAYLIGHT
BEGIN:STANDARD
TZOFFSETFROM:-0400
TZOFFSETTO:-0500
TZNAME:EST
DTSTART:20211107T060000
END:STANDARD
BEGIN:DAYLIGHT
TZOFFSETFROM:-0500
TZOFFSETTO:-0400
TZNAME:EDT
DTSTART:20220313T070000
END:DAYLIGHT
BEGIN:STANDARD
TZOFFSETFROM:-0400
TZOFFSETTO:-0500
TZNAME:EST
DTSTART:20221106T060000
END:STANDARD
BEGIN:DAYLIGHT
TZOFFSETFROM:-0500
TZOFFSETTO:-0400
TZNAME:EDT
DTSTART:20230312T070000
END:DAYLIGHT
BEGIN:STANDARD
TZOFFSETFROM:-0400
TZOFFSETTO:-0500
TZNAME:EST
DTSTART:20231105T060000
END:STANDARD
END:VTIMEZONE
BEGIN:VEVENT
DTSTART;TZID=America/Detroit:20220107T090000
DTEND;TZID=America/Detroit:20220413T150000
DTSTAMP:20260424T065731
CREATED:20211220T201424Z
LAST-MODIFIED:20211220T201424Z
UID:10004539-1641546000-1649862000@www.visitglenarbor.com
SUMMARY:Woodland Studies
DESCRIPTION:The Glen Arbor Arts Center is exhibiting Woodland Studies\, a small exhibition of black and white photographs by Grand Rapids photographer Rodney Martin. The exhibition runs January 7 – April 13\, 2022 in the GAAC Lobby Gallery. \nMartin focuses his lens on the landscape. For the images in Woodland Studies\, he zeros in on rivers\, woods and orchards in Benzie\, Grand Traverse and Leelanau counties. His images were created in all four seasons; but they are related by the quiet and solitude he frames. There is little evidence of human habitation in these scenes. Instead\, the images are studies of shadow and texture\, shades of gray\, and the deep and refreshing beauty of places off the beaten path. Martin talks about his work\, his tools and his intention in a short video interview with GAAC Gallery Manager Sarah Bearup-Neal. To watch the video go to: GlenArborArt.org/Exhibits/Current. \nWoodland Studies may be viewed in the GAAC Lobby Gallery\, or online: GlenArborArt.org/Exhibits/Current. The GAAC is located at 6031 S. Lake St.\, in Glen Arbor. Admission is free.
URL:https://www.visitglenarbor.com/event/woodland-studies/
LOCATION:Glen Arbor Arts Center\, 6031 S. Lake Street\, Glen Arbor\, MI\, 49636
ATTACH;FMTTYPE=image/jpeg:https://www.visitglenarbor.com/wp-content/uploads/2021/12/Rodney-Martin_A-Winters-Orchard-scaled.jpg
ORGANIZER;CN="Glen Arbor Arts Center":MAILTO:director@glenarborart.org
END:VEVENT
BEGIN:VEVENT
DTSTART;TZID=America/Detroit:20220114T090000
DTEND;TZID=America/Detroit:20220324T150000
DTSTAMP:20260424T065731
CREATED:20211220T201439Z
LAST-MODIFIED:20211220T201439Z
UID:10004538-1642150800-1648134000@www.visitglenarbor.com
SUMMARY:PaperWork
DESCRIPTION:Paper is a ubiquitous material that’s the foundation of much visual art. The Glen Arbor Arts Center’s exhibition\, PaperWork\, focuses on works on paper\, and works made of paper. The exhibit runs January 14 – March 24\, 2022. \nPaperWork is juried exhibit. It features the work of 21 artists from throughout Michigan\, Massachusetts\, Missouri\, and the nation of Chile. In addition to the exhibit\, the GAAC digs into the subject of paper in three video interviews with two artists working in collage\, and artist’s books; and a conversation with the people behind the Big Heads Corp.\, the beloved\, papier mache sculptures worn by volunteers in the Detroit Thanksgiving Day Parade. \nThe GAAC is located at 6031 S. Lake St\, Glen Arbor. For more information go to GlenArborArt.org and click on the EXHIBITS tab. All PaperWork programs are free.
URL:https://www.visitglenarbor.com/event/paperwork/
LOCATION:Glen Arbor Arts Center\, 6031 S. Lake Street\, Glen Arbor\, MI\, 49636
CATEGORIES:Art/Gallery/Exhibit
ATTACH;FMTTYPE=image/jpeg:https://www.visitglenarbor.com/wp-content/uploads/2021/12/Paperwork2_Webslide.jpg
ORGANIZER;CN="Glen Arbor Arts Center":MAILTO:director@glenarborart.org
END:VEVENT
BEGIN:VEVENT
DTSTART;TZID=America/Detroit:20220318T160000
DTEND;TZID=America/Detroit:20220318T190000
DTSTAMP:20260424T065731
CREATED:20220117T172959Z
LAST-MODIFIED:20220117T172959Z
UID:10004550-1647619200-1647630000@www.visitglenarbor.com
SUMMARY:Friday Favorites
DESCRIPTION:Start your weekend off right! Every Friday\, from 4-7pm at M22 Glen Arbor enjoy $2 off flights\, $1 off large pours\, and 10% off bottles. To make your igloo reservation\, go to crystalriveroutfitters.com. Seating in the heated patio and around one of our cozy fires are also available. See you Friday night!
URL:https://www.visitglenarbor.com/event/friday-favorites-2/2022-03-18/
LOCATION:M22 Glen Arbor\, Western Ave W Western Ave\, Glen Arbor\, Michigan\, 49636
CATEGORIES:Community Events,Wine/Beer or Tasting Event
ATTACH;FMTTYPE=image/png:https://www.visitglenarbor.com/wp-content/uploads/2022/01/Ladies-Night-6-1.png
END:VEVENT
END:VCALENDAR