BEGIN:VCALENDAR
VERSION:2.0
PRODID:-//Glen Lake Chamber of Commerce - ECPv6.15.20//NONSGML v1.0//EN
CALSCALE:GREGORIAN
METHOD:PUBLISH
X-ORIGINAL-URL:https://www.visitglenarbor.com
X-WR-CALDESC:Events for Glen Lake Chamber of Commerce
REFRESH-INTERVAL;VALUE=DURATION:PT1H
X-Robots-Tag:noindex
X-PUBLISHED-TTL:PT1H
BEGIN:VTIMEZONE
TZID:America/Detroit
BEGIN:DAYLIGHT
TZOFFSETFROM:-0500
TZOFFSETTO:-0400
TZNAME:EDT
DTSTART:20200308T070000
END:DAYLIGHT
BEGIN:STANDARD
TZOFFSETFROM:-0400
TZOFFSETTO:-0500
TZNAME:EST
DTSTART:20201101T060000
END:STANDARD
BEGIN:DAYLIGHT
TZOFFSETFROM:-0500
TZOFFSETTO:-0400
TZNAME:EDT
DTSTART:20210314T070000
END:DAYLIGHT
BEGIN:STANDARD
TZOFFSETFROM:-0400
TZOFFSETTO:-0500
TZNAME:EST
DTSTART:20211107T060000
END:STANDARD
BEGIN:DAYLIGHT
TZOFFSETFROM:-0500
TZOFFSETTO:-0400
TZNAME:EDT
DTSTART:20220313T070000
END:DAYLIGHT
BEGIN:STANDARD
TZOFFSETFROM:-0400
TZOFFSETTO:-0500
TZNAME:EST
DTSTART:20221106T060000
END:STANDARD
END:VTIMEZONE
BEGIN:VEVENT
DTSTART;TZID=America/Detroit:20210910T120000
DTEND;TZID=America/Detroit:20210910T130000
DTSTAMP:20260424T233718
CREATED:20210219T182045Z
LAST-MODIFIED:20210219T182045Z
UID:10004286-1631275200-1631278800@www.visitglenarbor.com
SUMMARY:Suzanne Wilson Artist-in-Residence Program Presentations
DESCRIPTION:Since the 1990s\, the Glen Arbor Arts Center has welcomed visiting artists who want to immerse themselves in their work. The GAAC’s Suzanne Wilson Artist-in-Residence program offers up to seven\, creative practitioners a two-week respite from their daily lives in order to focus on a new idea that needs space and time to develop\, to an on-going project that might be nearing conclusion. \nThe 2021 program begins in May. Each of the GAAC’s residents offers a conversational presentation at the end of their stay. The presentations begin at noon at the GAAC. They are free\, and open to the public. On September 10\, Janet Dunbar will discuss how her residency was focused on the Leelanau flora and fauna for inspiration. This Michigan potter hand builds pots and fires them in the tradition of Japanese raku. \nFor more information call the GAAC at 231/334-6112.
URL:https://www.visitglenarbor.com/event/suzanne-wilson-artist-in-residence-program-presentations-3/
LOCATION:Glen Arbor Arts Center\, 6031 S. Lake Street\, Glen Arbor\, MI\, 49636
ATTACH;FMTTYPE=image/jpeg:https://www.visitglenarbor.com/wp-content/uploads/2021/02/2020-AIR-Janet-Dunbar_goldfinch-scaled.jpg
ORGANIZER;CN="Glen Arbor Arts Center":MAILTO:director@glenarborart.org
END:VEVENT
BEGIN:VEVENT
DTSTART;TZID=America/Detroit:20210910T120000
DTEND;TZID=America/Detroit:20210910T130000
DTSTAMP:20260424T233718
CREATED:20210219T182123Z
LAST-MODIFIED:20210219T182123Z
UID:10004287-1631275200-1631278800@www.visitglenarbor.com
SUMMARY:Suzanne Wilson Artist-in-Residence Program Presentations
DESCRIPTION:Since the 1990s\, the Glen Arbor Arts Center has welcomed visiting artists who want to immerse themselves in their work. The GAAC’s Suzanne Wilson Artist-in-Residence program offers up to seven\, creative practitioners a two-week respite from their daily lives in order to focus on a new idea that needs space and time to develop\, to an on-going project that might be nearing conclusion. \nThe 2021 program begins in May. Each of the GAAC’s residents offers a conversational presentation at the end of their stay. The presentations begin at noon at the GAAC. They are free\, and open to the public. On September 10\, Janet Dunbar will discuss how her residency was focused on the Leelanau flora and fauna for inspiration. This Michigan potter hand builds pots and fires them in the tradition of Japanese raku. \nFor more information call the GAAC at 231/334-6112.
URL:https://www.visitglenarbor.com/event/suzanne-wilson-artist-in-residence-program-presentations-4/
LOCATION:Glen Arbor Arts Center\, 6031 S. Lake Street\, Glen Arbor\, MI\, 49636
ATTACH;FMTTYPE=image/jpeg:https://www.visitglenarbor.com/wp-content/uploads/2021/02/2020-AIR-Janet-Dunbar_goldfinch-1-scaled.jpg
ORGANIZER;CN="Glen Arbor Arts Center":MAILTO:director@glenarborart.org
END:VEVENT
END:VCALENDAR