BEGIN:VCALENDAR
VERSION:2.0
PRODID:-//Glen Lake Chamber of Commerce - ECPv6.15.19//NONSGML v1.0//EN
CALSCALE:GREGORIAN
METHOD:PUBLISH
X-WR-CALNAME:Glen Lake Chamber of Commerce
X-ORIGINAL-URL:https://www.visitglenarbor.com
X-WR-CALDESC:Events for Glen Lake Chamber of Commerce
REFRESH-INTERVAL;VALUE=DURATION:PT1H
X-Robots-Tag:noindex
X-PUBLISHED-TTL:PT1H
BEGIN:VTIMEZONE
TZID:America/Detroit
BEGIN:DAYLIGHT
TZOFFSETFROM:-0500
TZOFFSETTO:-0400
TZNAME:EDT
DTSTART:20200308T070000
END:DAYLIGHT
BEGIN:STANDARD
TZOFFSETFROM:-0400
TZOFFSETTO:-0500
TZNAME:EST
DTSTART:20201101T060000
END:STANDARD
BEGIN:DAYLIGHT
TZOFFSETFROM:-0500
TZOFFSETTO:-0400
TZNAME:EDT
DTSTART:20210314T070000
END:DAYLIGHT
BEGIN:STANDARD
TZOFFSETFROM:-0400
TZOFFSETTO:-0500
TZNAME:EST
DTSTART:20211107T060000
END:STANDARD
BEGIN:DAYLIGHT
TZOFFSETFROM:-0500
TZOFFSETTO:-0400
TZNAME:EDT
DTSTART:20220313T070000
END:DAYLIGHT
BEGIN:STANDARD
TZOFFSETFROM:-0400
TZOFFSETTO:-0500
TZNAME:EST
DTSTART:20221106T060000
END:STANDARD
END:VTIMEZONE
BEGIN:VEVENT
DTSTART;TZID=America/Detroit:20210503T110000
DTEND;TZID=America/Detroit:20210831T140000
DTSTAMP:20260422T222721
CREATED:20210223T174522Z
LAST-MODIFIED:20210322T180904Z
UID:10004292-1620039600-1630418400@www.visitglenarbor.com
SUMMARY:A CELEBRATION: THE PAINTINGS OF AMY L. CLARK-CARELS
DESCRIPTION:The Glen Arbor Arts Center celebrates Amy L. Clark-Carels’s love of watercolor painting in a small exhibition of work May 3 – August 31. This exhibition\, a visual remembrance\, is the GAAC’s second Lobby Gallery exhibit of 2021. It will also be viewable on the GAAC website beginning May 3. \nCarels’s long\, loving history with Glen Arbor dates back to the late 1950s. Her parents began camping here\, then later built a family cottage on Big Glen that the Carels family continues to enjoy today. Carels’s passion and dedication to the visual arts can be seen in her many paintings of local landmarks — from Alligator Hill to interior scenes from the historic Sleeping Bear Inn.  \nThe works in A Celebration offers a curated selection of these iconic paintings. They reflect Carels’s life-long love of the area. Carels divided her time between Glen Arbor and her home in Oakland Township. She passed away in September of 2018. To learn more about Amy Carels\, go to her website: https://www.amycarels.com/ \nFor more information call the GAAC at 231/334-6112; or go to GlenArborArt.org/EXHIBITIONS.
URL:https://www.visitglenarbor.com/event/a-celebration-the-paintings-of-amy-l-clark-carels/
LOCATION:Glen Arbor Arts Center\, 6031 S. Lake Street\, Glen Arbor\, MI\, 49636
ATTACH;FMTTYPE=image/jpeg:https://www.visitglenarbor.com/wp-content/uploads/2021/02/Amy-Carels.jpg
ORGANIZER;CN="Glen Arbor Arts Center":MAILTO:director@glenarborart.org
END:VEVENT
END:VCALENDAR