BEGIN:VCALENDAR
VERSION:2.0
PRODID:-//Glen Lake Chamber of Commerce - ECPv6.15.19//NONSGML v1.0//EN
CALSCALE:GREGORIAN
METHOD:PUBLISH
X-WR-CALNAME:Glen Lake Chamber of Commerce
X-ORIGINAL-URL:https://www.visitglenarbor.com
X-WR-CALDESC:Events for Glen Lake Chamber of Commerce
REFRESH-INTERVAL;VALUE=DURATION:PT1H
X-Robots-Tag:noindex
X-PUBLISHED-TTL:PT1H
BEGIN:VTIMEZONE
TZID:America/Detroit
BEGIN:DAYLIGHT
TZOFFSETFROM:-0500
TZOFFSETTO:-0400
TZNAME:EDT
DTSTART:20170312T070000
END:DAYLIGHT
BEGIN:STANDARD
TZOFFSETFROM:-0400
TZOFFSETTO:-0500
TZNAME:EST
DTSTART:20171105T060000
END:STANDARD
BEGIN:DAYLIGHT
TZOFFSETFROM:-0500
TZOFFSETTO:-0400
TZNAME:EDT
DTSTART:20180311T070000
END:DAYLIGHT
BEGIN:STANDARD
TZOFFSETFROM:-0400
TZOFFSETTO:-0500
TZNAME:EST
DTSTART:20181104T060000
END:STANDARD
BEGIN:DAYLIGHT
TZOFFSETFROM:-0500
TZOFFSETTO:-0400
TZNAME:EDT
DTSTART:20190310T070000
END:DAYLIGHT
BEGIN:STANDARD
TZOFFSETFROM:-0400
TZOFFSETTO:-0500
TZNAME:EST
DTSTART:20191103T060000
END:STANDARD
END:VTIMEZONE
BEGIN:VEVENT
DTSTART;TZID=America/Detroit:20181109T093000
DTEND;TZID=America/Detroit:20181109T110000
DTSTAMP:20260424T044312
CREATED:20181101T182555Z
LAST-MODIFIED:20181101T182555Z
UID:10003177-1541755800-1541761200@www.visitglenarbor.com
SUMMARY:Little Artists
DESCRIPTION:Parents and Caregivers are invited to “Little Artists\,” a program designed towards pre-school age children and includes interactive\, process-based projects that nurture natural creativity. Each session is hosted at the Glen Arbor Arts Center and includes a story\, snack\, multiple stations to explore and features a unique interactive\, hands-on project. Instructor Michelle Aucello guides parents and children to work together to to create an amazing seasonally inspired or holiday themed project to take-home each session.  Each class is 90 minutes on select Friday mornings\, which also includes a small snack. \n“Little Artists” is a drop-in program is $15 per child/adult\, and $5 for any additional children. Non-participating infants less than 1 year are welcome at no charge. For additional information\, please call the GAAC at 231/334-6112 \n\nMichelle Aucello is an educator with 26 years of experience. Michelle taught first and second grade in Honolulu\, Hawaii for 13 years as well as classes on Early Literacy at the University of Hawaii. Michele also worked with Honolulu Family Magazine as a contributor\, blogging about food and crafts and providing educational tips for parents. In 2017 Michelle successfully developed a new program for the GAAC called Little Artists which explores creative projects for preschool children and their parents/caregivers.
URL:https://www.visitglenarbor.com/event/little-artists-nov-9/
LOCATION:Glen Arbor Arts Center\, 6031 S. Lake Street\, Glen Arbor\, MI\, 49636
CATEGORIES:Education,Kids + Family Friendly
ATTACH;FMTTYPE=:
END:VEVENT
BEGIN:VEVENT
DTSTART;TZID=America/Detroit:20181109T120000
DTEND;TZID=America/Detroit:20181109T130000
DTSTAMP:20260424T044312
CREATED:20181031T203126Z
LAST-MODIFIED:20200309T054910Z
UID:10002811-1541764800-1541768400@www.visitglenarbor.com
SUMMARY:“A Radical Perspective of Art\,” a Brown Bag art history presentation
DESCRIPTION:The GAAC AIR Collection exhibition also includes two related programs: Friday\, November 9: Glen Arbor painter Harvey Gordon\, a past chairperson of the AIR\nCommittee\, offers “A Radical Perspective of Art\,” a Brown Bag art history presentation at 12 noon. This event is free and open to the public. \nSunday\, November 11: What is an artist’s residency? A panel of working artists who have all enjoyed artists’  residencies — Margo Burian\, Lori Feldpausch and Joan Richmond — talk about how an artist’s residency figures into a studio practice. Presented as part of the “Talk About Art” series. 2 pm in the GAAC gallery. No charge. \nThe Glen Arbor Arts Center spotlights its permanent collection of works by more than 40 artists who have enjoyed a two-week residency in the GAAC’s Artist-in-Residence [AIR] program. The exhibition runs November 9 – December 21 at the GAAC\, 6031 S. Lake St.\, Glen Arbor. \nArtists who enjoy a residency in the AIR program often make a gift of work to the GAAC at the end of their stay. It is a practice that was initiated more than a decade ago\, and has allowed the GAAC to build a permanent collection and a record of AIRs’ work. This program of artists’ residencies began in the 1990s at the initiation of the late Suzanne Wilson\, one of the GAAC’s\nfounders. Wilson handpicked visual artists for the program\, and found area friends to house them. Today\, a committee of seven volunteers administer the program. The GAAC offers seven residencies each year from May to October. A selection of work by Suzanne Wilson will also be part of this exhibition. \nFor more information about these activities\, go to GlenArborArt and click on EVENTS. In November and December\, the GAAC is open Monday through Friday 9 am – 3:30 pm\, and noon\n– 4 pm on Sundays.
URL:https://www.visitglenarbor.com/event/a-radical-perspective-of-art-a-brown-bag-art-history-presentation/
LOCATION:Glen Arbor Arts Center\, 6031 S. Lake Street\, Glen Arbor\, MI\, 49636
CATEGORIES:Art/Gallery/Exhibit,Local Business Event
ATTACH;FMTTYPE=image/jpeg:https://www.visitglenarbor.com/wp-content/uploads/2020/03/2018-AIR-exhibtion_Suzanne-Wilson-small-e1541003440364.jpg
ORGANIZER;CN="Glen Arbor Arts Center":MAILTO:director@glenarborart.org
END:VEVENT
END:VCALENDAR