BEGIN:VCALENDAR
VERSION:2.0
PRODID:-//Glen Lake Chamber of Commerce - ECPv6.15.20//NONSGML v1.0//EN
CALSCALE:GREGORIAN
METHOD:PUBLISH
X-ORIGINAL-URL:https://www.visitglenarbor.com
X-WR-CALDESC:Events for Glen Lake Chamber of Commerce
REFRESH-INTERVAL;VALUE=DURATION:PT1H
X-Robots-Tag:noindex
X-PUBLISHED-TTL:PT1H
BEGIN:VTIMEZONE
TZID:America/Detroit
BEGIN:DAYLIGHT
TZOFFSETFROM:-0500
TZOFFSETTO:-0400
TZNAME:EDT
DTSTART:20170312T070000
END:DAYLIGHT
BEGIN:STANDARD
TZOFFSETFROM:-0400
TZOFFSETTO:-0500
TZNAME:EST
DTSTART:20171105T060000
END:STANDARD
BEGIN:DAYLIGHT
TZOFFSETFROM:-0500
TZOFFSETTO:-0400
TZNAME:EDT
DTSTART:20180311T070000
END:DAYLIGHT
BEGIN:STANDARD
TZOFFSETFROM:-0400
TZOFFSETTO:-0500
TZNAME:EST
DTSTART:20181104T060000
END:STANDARD
BEGIN:DAYLIGHT
TZOFFSETFROM:-0500
TZOFFSETTO:-0400
TZNAME:EDT
DTSTART:20190310T070000
END:DAYLIGHT
BEGIN:STANDARD
TZOFFSETFROM:-0400
TZOFFSETTO:-0500
TZNAME:EST
DTSTART:20191103T060000
END:STANDARD
END:VTIMEZONE
BEGIN:VEVENT
DTSTART;TZID=America/Detroit:20181023T173000
DTEND;TZID=America/Detroit:20181023T193000
DTSTAMP:20260425T101257
CREATED:20181017T011904Z
LAST-MODIFIED:20200309T054909Z
UID:10002803-1540315800-1540323000@www.visitglenarbor.com
SUMMARY:Fall Member Dinner at Cherry Public House
DESCRIPTION:Glen Lake Chamber ~ Fall Dinner\nTuesday\, October 23rd\nAt Cherry Public House\n5:30 social\, 6pm Dinner & MeetingMenu\nENTREE SELECTIONS:\n(All entrees that come with salad)\n•Wild Mushroom Pasta\n•Whitefish \n•Chicken \n\nEntree\, one pour of wine or beer\, and Dessert for $25. \nPlease join us! \nRSVP with your menu selection ASAP to Kathy Baarstad via email: kathyb@cherryrepublic.com \n\nGlen Lake Chamber Members\, colleagues\, community members & friends\, welcome to attend with an RSVP. 
URL:https://www.visitglenarbor.com/event/fall-member-dinner-at-cherry-public-house/
LOCATION:Cherry Public House\, 6026 South Lake Street\, Glen Arbor\, MI\, 49636
ATTACH;FMTTYPE=image/jpeg:https://www.visitglenarbor.com/wp-content/uploads/2020/03/IMG_6541-e1539724510791.jpg
END:VEVENT
END:VCALENDAR