BEGIN:VCALENDAR
VERSION:2.0
PRODID:-//Glen Lake Chamber of Commerce - ECPv6.15.20//NONSGML v1.0//EN
CALSCALE:GREGORIAN
METHOD:PUBLISH
X-ORIGINAL-URL:https://www.visitglenarbor.com
X-WR-CALDESC:Events for Glen Lake Chamber of Commerce
REFRESH-INTERVAL;VALUE=DURATION:PT1H
X-Robots-Tag:noindex
X-PUBLISHED-TTL:PT1H
BEGIN:VTIMEZONE
TZID:America/Detroit
BEGIN:DAYLIGHT
TZOFFSETFROM:-0500
TZOFFSETTO:-0400
TZNAME:EDT
DTSTART:20170312T070000
END:DAYLIGHT
BEGIN:STANDARD
TZOFFSETFROM:-0400
TZOFFSETTO:-0500
TZNAME:EST
DTSTART:20171105T060000
END:STANDARD
BEGIN:DAYLIGHT
TZOFFSETFROM:-0500
TZOFFSETTO:-0400
TZNAME:EDT
DTSTART:20180311T070000
END:DAYLIGHT
BEGIN:STANDARD
TZOFFSETFROM:-0400
TZOFFSETTO:-0500
TZNAME:EST
DTSTART:20181104T060000
END:STANDARD
BEGIN:DAYLIGHT
TZOFFSETFROM:-0500
TZOFFSETTO:-0400
TZNAME:EDT
DTSTART:20190310T070000
END:DAYLIGHT
BEGIN:STANDARD
TZOFFSETFROM:-0400
TZOFFSETTO:-0500
TZNAME:EST
DTSTART:20191103T060000
END:STANDARD
END:VTIMEZONE
BEGIN:VEVENT
DTSTART;TZID=America/Detroit:20181013T130000
DTEND;TZID=America/Detroit:20181013T160000
DTSTAMP:20260425T081244
CREATED:20181012T002150Z
LAST-MODIFIED:20200309T054909Z
UID:10002801-1539435600-1539446400@www.visitglenarbor.com
SUMMARY:HERITAGE DAY Oct 13 2018
DESCRIPTION: \n\nEmpire Area Museum Complex presents HERITAGE DAY\n \nSaturday\, October 13th 1-4 P.M.\n \nFeaturing: \n1919 Roen’s motorcar……. Dune cars\nOld time bicycles.  Quilt tickets\nDemonstrations in….Maple sugar candy\,  Butter Churning\,  Apple Cider\, Apple Butter\, Sauerkraut \, Moomers Ice Cream and more\nOld time music in many forms.\nHit and Miss Engine Demonstrations\nOld cars\,\, trucks\, tractors\nVillage walking tours\nQuilt raffle at 3:30 PM\n \nFREE POPCORN and FUN FOR THE WHOLE FAMILY!!!!
URL:https://www.visitglenarbor.com/event/heritage-day-oct-13-2018/
LOCATION:Empire Area Museum\, 11544 S Lacore St \, Empire\, MI\, 49630\, United States
CATEGORIES:Community Events,Education,Kids + Family Friendly
ATTACH;FMTTYPE=image/jpeg:https://www.visitglenarbor.com/wp-content/uploads/2020/03/Empire-Area-Museum-Complex-heritage-day-classic-car-truck-motorcycle-display.jpeg
ORGANIZER;CN="Empire Area Museum":MAILTO:empiremuseum@centurytel.net
END:VEVENT
END:VCALENDAR