BEGIN:VCALENDAR
VERSION:2.0
PRODID:-//Glen Lake Chamber of Commerce - ECPv6.15.20//NONSGML v1.0//EN
CALSCALE:GREGORIAN
METHOD:PUBLISH
X-ORIGINAL-URL:https://www.visitglenarbor.com
X-WR-CALDESC:Events for Glen Lake Chamber of Commerce
REFRESH-INTERVAL;VALUE=DURATION:PT1H
X-Robots-Tag:noindex
X-PUBLISHED-TTL:PT1H
BEGIN:VTIMEZONE
TZID:America/Detroit
BEGIN:DAYLIGHT
TZOFFSETFROM:-0500
TZOFFSETTO:-0400
TZNAME:EDT
DTSTART:20170312T070000
END:DAYLIGHT
BEGIN:STANDARD
TZOFFSETFROM:-0400
TZOFFSETTO:-0500
TZNAME:EST
DTSTART:20171105T060000
END:STANDARD
BEGIN:DAYLIGHT
TZOFFSETFROM:-0500
TZOFFSETTO:-0400
TZNAME:EDT
DTSTART:20180311T070000
END:DAYLIGHT
BEGIN:STANDARD
TZOFFSETFROM:-0400
TZOFFSETTO:-0500
TZNAME:EST
DTSTART:20181104T060000
END:STANDARD
BEGIN:DAYLIGHT
TZOFFSETFROM:-0500
TZOFFSETTO:-0400
TZNAME:EDT
DTSTART:20190310T070000
END:DAYLIGHT
BEGIN:STANDARD
TZOFFSETFROM:-0400
TZOFFSETTO:-0500
TZNAME:EST
DTSTART:20191103T060000
END:STANDARD
END:VTIMEZONE
BEGIN:VEVENT
DTSTART;TZID=America/Detroit:20181007T140000
DTEND;TZID=America/Detroit:20181007T140000
DTSTAMP:20260425T081105
CREATED:20180915T235904Z
LAST-MODIFIED:20200309T054908Z
UID:10003173-1538920800-1538920800@www.visitglenarbor.com
SUMMARY:Gallery Talk with Linda Young: agriCULTURE
DESCRIPTION:Art educator Linda Young leads a conversational gallery talk about work displayed in the Glen Arbor Arts Center’s exhibition agriCULTURE: Barnyards and Farmscapes on Sunday\, October 7\, 2 pm in the GAAC gallery. This gallery event is free and open to the public. \nagriCULTURE is a juried exhibition of 2D and 3D work that zeros in on the lore and culture of barnyards and farmstead life. In addition to the work displayed in the gallery\, agriCULTURE’s themes are further explored through a series of companion programs. Young\, a retired Museum Educator with the Kalamazoo Institute of Art\, will talk about the exhibited work in a casual atmosphere with an opportunity for questions. \nOn display through November 1\, agriCULTURE is supported in part by the Michigan Humanities Council and the National Endowment for the Humanities. More details about agriCULTURE’s programs and event can be found at GlenArborArt.org. Click on “Events.” The GAAC is located at 6031 S. Lake St.\, Glen Arbor.
URL:https://www.visitglenarbor.com/event/gallery-talk-with-linda-young-agriculture/
LOCATION:Glen Arbor Arts Center\, 6031 S. Lake Street\, Glen Arbor\, MI\, 49636
CATEGORIES:Education
ATTACH;FMTTYPE=image/jpeg:https://www.visitglenarbor.com/wp-content/uploads/2020/03/2018-agriCULTURE-cow-pasture-e1537041509736.jpg
ORGANIZER;CN="Glen Arbor Arts Center":MAILTO:director@glenarborart.org
END:VEVENT
END:VCALENDAR