BEGIN:VCALENDAR
VERSION:2.0
PRODID:-//Glen Lake Chamber of Commerce - ECPv6.15.20//NONSGML v1.0//EN
CALSCALE:GREGORIAN
METHOD:PUBLISH
X-ORIGINAL-URL:https://www.visitglenarbor.com
X-WR-CALDESC:Events for Glen Lake Chamber of Commerce
REFRESH-INTERVAL;VALUE=DURATION:PT1H
X-Robots-Tag:noindex
X-PUBLISHED-TTL:PT1H
BEGIN:VTIMEZONE
TZID:America/Detroit
BEGIN:DAYLIGHT
TZOFFSETFROM:-0500
TZOFFSETTO:-0400
TZNAME:EDT
DTSTART:20170312T070000
END:DAYLIGHT
BEGIN:STANDARD
TZOFFSETFROM:-0400
TZOFFSETTO:-0500
TZNAME:EST
DTSTART:20171105T060000
END:STANDARD
BEGIN:DAYLIGHT
TZOFFSETFROM:-0500
TZOFFSETTO:-0400
TZNAME:EDT
DTSTART:20180311T070000
END:DAYLIGHT
BEGIN:STANDARD
TZOFFSETFROM:-0400
TZOFFSETTO:-0500
TZNAME:EST
DTSTART:20181104T060000
END:STANDARD
BEGIN:DAYLIGHT
TZOFFSETFROM:-0500
TZOFFSETTO:-0400
TZNAME:EDT
DTSTART:20190310T070000
END:DAYLIGHT
BEGIN:STANDARD
TZOFFSETFROM:-0400
TZOFFSETTO:-0500
TZNAME:EST
DTSTART:20191103T060000
END:STANDARD
END:VTIMEZONE
BEGIN:VEVENT
DTSTART;TZID=America/Detroit:20180929T190000
DTEND;TZID=America/Detroit:20180929T210000
DTSTAMP:20260425T102033
CREATED:20180823T221122Z
LAST-MODIFIED:20180823T221122Z
UID:10003168-1538247600-1538254800@www.visitglenarbor.com
SUMMARY:Fields\, a Readers' Theater-Style Performance
DESCRIPTION:The Glen Arbor Arts Center presents “What Will Be In The Fields Tomorrow?”\, a readers’ theater-style production\, Saturday\, September 29\, 7 – 9 pm at the GAAC\, 6031 S. Lake St.\, Glen Arbor. \n“Fields” touches on a wide range of issues at the center of modern agriculture: food production\, food quality\, sustainable agriculture\, and the lives of farmers today. The readers\nwho will perform “Fields” are local residents\, farmers\, and other people with professional\, avocational\, and recreational links to local agriculture and rural life. Following the production\, Dr. Robert Sirrine\, Extension Food Systems specialist with Leelanau County Cooperative Extension\, will moderate the post-program\, audience talk-back. \nOffered as part of the GAAC’s exhibition agriCULTURE: Barnyards and Farmscapes\, “Fields” is open to the public at no charge. Reservations are required. \nGo to GlenArborArt.org\, click on “Events” and scroll to the “Fields” listing. \nagriCULTURE is supported in part by the Michigan Humanities Council and the National Endowment for the Humanities. For more information call the GAAC 231/334-6112
URL:https://www.visitglenarbor.com/event/fields-a-readers-theater-style-performance/
LOCATION:Glen Arbor Arts Center\, 6031 S. Lake Street\, Glen Arbor\, MI\, 49636
ATTACH;FMTTYPE=:
ORGANIZER;CN="Glen Arbor Arts Center":MAILTO:director@glenarborart.org
END:VEVENT
END:VCALENDAR