BEGIN:VCALENDAR
VERSION:2.0
PRODID:-//Glen Lake Chamber of Commerce - ECPv6.15.20//NONSGML v1.0//EN
CALSCALE:GREGORIAN
METHOD:PUBLISH
X-WR-CALNAME:Glen Lake Chamber of Commerce
X-ORIGINAL-URL:https://www.visitglenarbor.com
X-WR-CALDESC:Events for Glen Lake Chamber of Commerce
REFRESH-INTERVAL;VALUE=DURATION:PT1H
X-Robots-Tag:noindex
X-PUBLISHED-TTL:PT1H
BEGIN:VTIMEZONE
TZID:America/Detroit
BEGIN:DAYLIGHT
TZOFFSETFROM:-0500
TZOFFSETTO:-0400
TZNAME:EDT
DTSTART:20170312T070000
END:DAYLIGHT
BEGIN:STANDARD
TZOFFSETFROM:-0400
TZOFFSETTO:-0500
TZNAME:EST
DTSTART:20171105T060000
END:STANDARD
BEGIN:DAYLIGHT
TZOFFSETFROM:-0500
TZOFFSETTO:-0400
TZNAME:EDT
DTSTART:20180311T070000
END:DAYLIGHT
BEGIN:STANDARD
TZOFFSETFROM:-0400
TZOFFSETTO:-0500
TZNAME:EST
DTSTART:20181104T060000
END:STANDARD
BEGIN:DAYLIGHT
TZOFFSETFROM:-0500
TZOFFSETTO:-0400
TZNAME:EDT
DTSTART:20190310T070000
END:DAYLIGHT
BEGIN:STANDARD
TZOFFSETFROM:-0400
TZOFFSETTO:-0500
TZNAME:EST
DTSTART:20191103T060000
END:STANDARD
END:VTIMEZONE
BEGIN:VEVENT
DTSTART;TZID=America/Detroit:20180927T193000
DTEND;TZID=America/Detroit:20180927T193000
DTSTAMP:20260424T130315
CREATED:20180509T202830Z
LAST-MODIFIED:20180509T202830Z
UID:10003037-1538076600-1538076600@www.visitglenarbor.com
SUMMARY:Anne Corlett | Artist in Residence Talk
DESCRIPTION:After a year’s hiatus for construction\, the Glen Arbor Arts Center’s Artist-in-Residence [AIR] program resumed in May 2018. This program of working residencies was established in the 1990s\, and now attracts applicants from throughout the United States. Sagatuck\, Michigan painter Anne Corlett’s goal for her residency is to create awareness-raising paintings of West Michigan’s shoreline and landscape. During her residency\, she’ll blog about her work and her activism. Corlett is one of seven artists selected for a 2018 GAAC residency. \nCorlett will offer a conversational review of her residency on Thursday\, September 27\, 7:30 pm at the GAAC gallery. The GAAC is located at 6031 S. Lake St.\, Glen Arbor. The presentation is free and open to the public. For more information\, please go to: GlenArborArt.org
URL:https://www.visitglenarbor.com/event/anne-corlett-artist-in-residence-talk/
LOCATION:Glen Arbor Arts Center\, 6031 S. Lake Street\, Glen Arbor\, MI\, 49636
CATEGORIES:Art/Gallery/Exhibit
ATTACH;FMTTYPE=:
ORGANIZER;CN="Glen Arbor Arts Center":MAILTO:director@glenarborart.org
END:VEVENT
END:VCALENDAR