BEGIN:VCALENDAR
VERSION:2.0
PRODID:-//Glen Lake Chamber of Commerce - ECPv6.15.20//NONSGML v1.0//EN
CALSCALE:GREGORIAN
METHOD:PUBLISH
X-WR-CALNAME:Glen Lake Chamber of Commerce
X-ORIGINAL-URL:https://www.visitglenarbor.com
X-WR-CALDESC:Events for Glen Lake Chamber of Commerce
REFRESH-INTERVAL;VALUE=DURATION:PT1H
X-Robots-Tag:noindex
X-PUBLISHED-TTL:PT1H
BEGIN:VTIMEZONE
TZID:America/Detroit
BEGIN:DAYLIGHT
TZOFFSETFROM:-0500
TZOFFSETTO:-0400
TZNAME:EDT
DTSTART:20170312T070000
END:DAYLIGHT
BEGIN:STANDARD
TZOFFSETFROM:-0400
TZOFFSETTO:-0500
TZNAME:EST
DTSTART:20171105T060000
END:STANDARD
BEGIN:DAYLIGHT
TZOFFSETFROM:-0500
TZOFFSETTO:-0400
TZNAME:EDT
DTSTART:20180311T070000
END:DAYLIGHT
BEGIN:STANDARD
TZOFFSETFROM:-0400
TZOFFSETTO:-0500
TZNAME:EST
DTSTART:20181104T060000
END:STANDARD
BEGIN:DAYLIGHT
TZOFFSETFROM:-0500
TZOFFSETTO:-0400
TZNAME:EDT
DTSTART:20190310T070000
END:DAYLIGHT
BEGIN:STANDARD
TZOFFSETFROM:-0400
TZOFFSETTO:-0500
TZNAME:EST
DTSTART:20191103T060000
END:STANDARD
END:VTIMEZONE
BEGIN:VEVENT
DTSTART;TZID=America/Detroit:20180914T180000
DTEND;TZID=America/Detroit:20180914T180000
DTSTAMP:20260424T130315
CREATED:20180606T210738Z
LAST-MODIFIED:20180606T210738Z
UID:10004257-1536948000-1536948000@www.visitglenarbor.com
SUMMARY:Fall Fiber Show | Center Gallery in Glen Arbor
DESCRIPTION:Center Gallery exhibits the fiber constructions of three Northern Michigan artists in its final 2018 exhibition. The work of Midge Obata\, Holly Sorensen and Elizabeth Rodgers Hill opens with a reception on Friday\, September 14\, 6 pm – sundown\, and runs through Sunday\, October 7 at the Glen Arbor gallery located at 6023 S. Lake St. \nThe gallery’s fall show spotlights three contemporary approaches to working with fiber: weaving and hand felting\, all of it taken into a sculptural\, three-dimensional direction. All three artists approach fiber as a material that can be pushed beyond its conventional and utilitarian uses\, into the realm of art object. \nCenter Gallery is open daily 11 am – 5 pm. For more information go to www.lakestreetstudiosglenarbor.com\, or call 231-334-3179
URL:https://www.visitglenarbor.com/event/fall-fiber-show-center-gallery-in-glen-arbor/
LOCATION:Center Gallery at Lake Street Studios
CATEGORIES:Art/Gallery/Exhibit,Local Business Event
ATTACH;FMTTYPE=:
END:VEVENT
BEGIN:VEVENT
DTSTART;TZID=America/Detroit:20180914T180000
DTEND;TZID=America/Detroit:20180914T200000
DTSTAMP:20260424T130315
CREATED:20180823T215859Z
LAST-MODIFIED:20200309T054905Z
UID:10003166-1536948000-1536955200@www.visitglenarbor.com
SUMMARY:agriCULTURE: Barnyards and Farmscapes
DESCRIPTION:The Glen Arbor Arts Center presents agriCULTURE: Barnyards and Farmscapes\, a juried exhibition exploring the interconnections of food\, farming and community through the lenses\nof art\, architecture\, film\, history and theater. agriCULTURE opens Friday\, September 14 with a reception from 6 – 8 pm. The show runs through November 1. \nagriCULTURE zeros in on the lore and culture of barnyards and farmstead life. Through a series of companion programs\, the exhibition acts as a springboard for explorations of the historic role of barns in the region\, how agriculture defines the region’s character\, what are examples of some current small farm practices. agriCULTURE is supported in part by the Michigan Humanities Council and the National Endowment for the Humanities. \nMore details about agriCULTURE’s programs and event can be found at GlenArborArt.org. Click on “Events.” The GAAC is located at 6031 S. Lake St.\, Glen Arbor.
URL:https://www.visitglenarbor.com/event/agriculture-barnyards-and-farmscapes/
LOCATION:Glen Arbor Arts Center\, 6031 S. Lake Street\, Glen Arbor\, MI\, 49636
CATEGORIES:Art/Gallery/Exhibit
ATTACH;FMTTYPE=image/jpeg:https://www.visitglenarbor.com/wp-content/uploads/2020/03/agriCULTURE-2018-art-exhibit_cows-e1535047131332.jpeg
ORGANIZER;CN="Glen Arbor Arts Center":MAILTO:director@glenarborart.org
END:VEVENT
END:VCALENDAR