BEGIN:VCALENDAR
VERSION:2.0
PRODID:-//Glen Lake Chamber of Commerce - ECPv6.15.20//NONSGML v1.0//EN
CALSCALE:GREGORIAN
METHOD:PUBLISH
X-ORIGINAL-URL:https://www.visitglenarbor.com
X-WR-CALDESC:Events for Glen Lake Chamber of Commerce
REFRESH-INTERVAL;VALUE=DURATION:PT1H
X-Robots-Tag:noindex
X-PUBLISHED-TTL:PT1H
BEGIN:VTIMEZONE
TZID:America/Detroit
BEGIN:DAYLIGHT
TZOFFSETFROM:-0500
TZOFFSETTO:-0400
TZNAME:EDT
DTSTART:20170312T070000
END:DAYLIGHT
BEGIN:STANDARD
TZOFFSETFROM:-0400
TZOFFSETTO:-0500
TZNAME:EST
DTSTART:20171105T060000
END:STANDARD
BEGIN:DAYLIGHT
TZOFFSETFROM:-0500
TZOFFSETTO:-0400
TZNAME:EDT
DTSTART:20180311T070000
END:DAYLIGHT
BEGIN:STANDARD
TZOFFSETFROM:-0400
TZOFFSETTO:-0500
TZNAME:EST
DTSTART:20181104T060000
END:STANDARD
BEGIN:DAYLIGHT
TZOFFSETFROM:-0500
TZOFFSETTO:-0400
TZNAME:EDT
DTSTART:20190310T070000
END:DAYLIGHT
BEGIN:STANDARD
TZOFFSETFROM:-0400
TZOFFSETTO:-0500
TZNAME:EST
DTSTART:20191103T060000
END:STANDARD
END:VTIMEZONE
BEGIN:VEVENT
DTSTART;TZID=America/Detroit:20180811T100000
DTEND;TZID=America/Detroit:20180811T160000
DTSTAMP:20260425T081102
CREATED:20180804T180135Z
LAST-MODIFIED:20180804T180135Z
UID:10003130-1533981600-1534003200@www.visitglenarbor.com
SUMMARY:Port Oneida Rural and Cultural Fair 2018
DESCRIPTION:Friday and Saturday\, August 10 & 11\,  \nPort Oneida Rural and Cultural Fair \nfrom 10:00 am – 4 pm \nHistory comes to life at six historic farmsteads and the Port Oneida Schoolhouse in Port Oneida. Presented by Sleeping Bear Dunes National Lakeshore in partnership with Preserve Historic Sleeping Bear. Event is free\, Park pass required.  \nLearn more. If you would like to demonstrate a traditional skill or craft\, or volunteer at the event\, please contact us at phsb@leelana.com
URL:https://www.visitglenarbor.com/event/port-oneida-rural-and-cultural-fair-2018-2/
LOCATION:Olsen Farm/Preserve Historic Sleeping Bear\, 3164 W Harbor Hwy\, Maple City\, MI\, 49664\, United States
CATEGORIES:Education,Kids + Family Friendly,Recreation
ATTACH;FMTTYPE=:
END:VEVENT
END:VCALENDAR