BEGIN:VCALENDAR
VERSION:2.0
PRODID:-//Glen Lake Chamber of Commerce - ECPv6.15.20//NONSGML v1.0//EN
CALSCALE:GREGORIAN
METHOD:PUBLISH
X-WR-CALNAME:Glen Lake Chamber of Commerce
X-ORIGINAL-URL:https://www.visitglenarbor.com
X-WR-CALDESC:Events for Glen Lake Chamber of Commerce
REFRESH-INTERVAL;VALUE=DURATION:PT1H
X-Robots-Tag:noindex
X-PUBLISHED-TTL:PT1H
BEGIN:VTIMEZONE
TZID:America/Detroit
BEGIN:DAYLIGHT
TZOFFSETFROM:-0500
TZOFFSETTO:-0400
TZNAME:EDT
DTSTART:20170312T070000
END:DAYLIGHT
BEGIN:STANDARD
TZOFFSETFROM:-0400
TZOFFSETTO:-0500
TZNAME:EST
DTSTART:20171105T060000
END:STANDARD
BEGIN:DAYLIGHT
TZOFFSETFROM:-0500
TZOFFSETTO:-0400
TZNAME:EDT
DTSTART:20180311T070000
END:DAYLIGHT
BEGIN:STANDARD
TZOFFSETFROM:-0400
TZOFFSETTO:-0500
TZNAME:EST
DTSTART:20181104T060000
END:STANDARD
BEGIN:DAYLIGHT
TZOFFSETFROM:-0500
TZOFFSETTO:-0400
TZNAME:EDT
DTSTART:20190310T070000
END:DAYLIGHT
BEGIN:STANDARD
TZOFFSETFROM:-0400
TZOFFSETTO:-0500
TZNAME:EST
DTSTART:20191103T060000
END:STANDARD
END:VTIMEZONE
BEGIN:VEVENT
DTSTART;TZID=America/Detroit:20180802T170000
DTEND;TZID=America/Detroit:20180802T190000
DTSTAMP:20260424T130323
CREATED:20180614T232411Z
LAST-MODIFIED:20200309T054855Z
UID:10003089-1533229200-1533236400@www.visitglenarbor.com
SUMMARY:Musicians on the Patio 8/2
DESCRIPTION:Musicians on the Patio at M22 Glen Arbor \nBlake Elliot performing 8/2 from 5-7pm \nBlake Elliott has a recipe for a sweet sound: start with a little folk\, throw in some jazz\, add a touch of funk\, and finish off with a healthy dose of the blues and soul. Coupled with a trademark vintage look and style\, Elliott delivers an eclectic mix of original music that blends the present with the past. \nFor questions\, call: 231-334-4425
URL:https://www.visitglenarbor.com/event/musicians-on-the-patio-8-2/
LOCATION:M22 Glen Arbor\, Western Ave W Western Ave\, Glen Arbor\, Michigan\, 49636
CATEGORIES:Local Business Event,Music
ATTACH;FMTTYPE=image/jpeg:https://www.visitglenarbor.com/wp-content/uploads/2020/03/Patio-and-Wine-Bar_M22-Stire_Coastal_Glen-Arbor.jpg
END:VEVENT
BEGIN:VEVENT
DTSTART;TZID=America/Detroit:20180802T200000
DTEND;TZID=America/Detroit:20180802T223000
DTSTAMP:20260424T130323
CREATED:20180523T195343Z
LAST-MODIFIED:20200309T054846Z
UID:10003047-1533240000-1533249000@www.visitglenarbor.com
SUMMARY:Plein Art Weekend SUNDOWNER
DESCRIPTION:Plein Art Weekend: SUNDOWNER | Thursday\, August 2 at sunset – 8 – 10:30 pm \nThe kick-off event of the 10th annual Plein Art Weekend is the Sundowner – a challenging painting opportunity that features artists capturing the beauty and awe of the sunset over Glen Lake and Lake Michigan. In true plein air fashion\, more than 50 artists will be painting the setting sun from 8 pm until last light along beaches from Glen Haven to Port Oneida\, and Inspiration Point. Come watch artists meet the demanding challenge of capturing a northern Michigan spectacular sunset. This Sundowner is a weather-permitting event. \nSundowner paintings will be on view at the Quick Sale\, Friday August 3\, 5 – 6:30 pm at the Glen Arbor Town Hall\, 6394 W. Western Avenue/M-22\, Glen Arbor. The exhibit and sale are open to the public. For more information please go to: GlenArborArt.org
URL:https://www.visitglenarbor.com/event/plein-art-weekend-sundowner/
LOCATION:Sleeping Bear Dunes National Lakeshore\, 9922 Front Street\, Empire\, MI\, 49630\, United States
CATEGORIES:Art/Gallery/Exhibit
ATTACH;FMTTYPE=image/jpeg:https://www.visitglenarbor.com/wp-content/uploads/2020/03/Sundowner_Plein-Air-Weekend_Glen-Arbor-scaled.jpg
ORGANIZER;CN="Glen Arbor Arts Center":MAILTO:director@glenarborart.org
END:VEVENT
BEGIN:VEVENT
DTSTART;TZID=America/Detroit:20180802T220000
DTEND;TZID=America/Detroit:20180803T000000
DTSTAMP:20260424T130323
CREATED:20180720T231059Z
LAST-MODIFIED:20200309T054900Z
UID:10003107-1533247200-1533254400@www.visitglenarbor.com
SUMMARY:Stargazing and Constellation Lesson Aug 2
DESCRIPTION:Open to the Public\, a Stargazing and Constellation Lesson held at Leelanau Observatory \n \nA clear night provides the perfect setting for a star-filled sky\, made even more visible by our 14″ Celestron Telescope in the Lanphier Observatory. You’ll see plenty of heavenly objects in bright\, brilliant detail\, and learn from Norm Wheeler\, our local authority and guide.\n \n10pm – midnight – Wednesday and Thursday nights – June 20 – August 30\nAdmission:  Adults $4  Students $3\n \nVisitors may park in any Leelanau School lot and walk down the scenic boardwalk\, across the Crystal River\, to the Lanphier Observatory or adventurous types may walk in from the beach\, as the Lanphier Observatory is easily visible to passersby\, being tucked just between the shore and the trees.\n \n\nThe Leelanau School Observatory on the Beach\, One Old Homestead Rd.\, Glen Arbor\, MI 49636 \n\nhttp://leelanau.org/serving-leelanau-community/the-lanphier-observatory/
URL:https://www.visitglenarbor.com/event/stargazing-and-constellation-lesson-aug-2/
LOCATION:The Leelanau School\, 1 Old Homestead Road\, Glen Arbor\, Michigan\, 49636
CATEGORIES:Community Events,Education,Recreation
ATTACH;FMTTYPE=image/jpeg:https://www.visitglenarbor.com/wp-content/uploads/2020/03/Observatory-Night-1-e1532113488695.jpg
END:VEVENT
END:VCALENDAR