BEGIN:VCALENDAR
VERSION:2.0
PRODID:-//Glen Lake Chamber of Commerce - ECPv6.15.20//NONSGML v1.0//EN
CALSCALE:GREGORIAN
METHOD:PUBLISH
X-WR-CALNAME:Glen Lake Chamber of Commerce
X-ORIGINAL-URL:https://www.visitglenarbor.com
X-WR-CALDESC:Events for Glen Lake Chamber of Commerce
REFRESH-INTERVAL;VALUE=DURATION:PT1H
X-Robots-Tag:noindex
X-PUBLISHED-TTL:PT1H
BEGIN:VTIMEZONE
TZID:America/Detroit
BEGIN:DAYLIGHT
TZOFFSETFROM:-0500
TZOFFSETTO:-0400
TZNAME:EDT
DTSTART:20170312T070000
END:DAYLIGHT
BEGIN:STANDARD
TZOFFSETFROM:-0400
TZOFFSETTO:-0500
TZNAME:EST
DTSTART:20171105T060000
END:STANDARD
BEGIN:DAYLIGHT
TZOFFSETFROM:-0500
TZOFFSETTO:-0400
TZNAME:EDT
DTSTART:20180311T070000
END:DAYLIGHT
BEGIN:STANDARD
TZOFFSETFROM:-0400
TZOFFSETTO:-0500
TZNAME:EST
DTSTART:20181104T060000
END:STANDARD
BEGIN:DAYLIGHT
TZOFFSETFROM:-0500
TZOFFSETTO:-0400
TZNAME:EDT
DTSTART:20190310T070000
END:DAYLIGHT
BEGIN:STANDARD
TZOFFSETFROM:-0400
TZOFFSETTO:-0500
TZNAME:EST
DTSTART:20191103T060000
END:STANDARD
END:VTIMEZONE
BEGIN:VEVENT
DTSTART;TZID=America/Detroit:20180801T103000
DTEND;TZID=America/Detroit:20180801T103000
DTSTAMP:20260424T130321
CREATED:20180606T215310Z
LAST-MODIFIED:20200309T054851Z
UID:10002755-1533119400-1533119400@www.visitglenarbor.com
SUMMARY:Story time with author Maria Dismondy
DESCRIPTION:The Fruit Salad Friend By Maria Dismondy\nCardinal Rule Press. $10.95\n \nChloe loves going to school\, but lately something is different. Chloe has all the ingredients of a great friend – kindness\, empathy\, compassion\, and more. Chloe wonders\, “What do you do when friends don’t treat you with kindness?” Find out how this brave girl navigates the trials and tribulations that pop up on her way to discovering the recipe for lasting friendship.  (Ages 3 and up)\n \nStory time and author visit at Cottage Book Shop in Glen Arbor on Wednesday August 1
URL:https://www.visitglenarbor.com/event/story-time-with-author-maria-dismondy/
LOCATION:Cottage Book Shop\, 5989 Lake St\, Glen Arbor\, MI\, 49636\, United States
CATEGORIES:Kids + Family Friendly,Local Business Event
ATTACH;FMTTYPE=image/png:https://www.visitglenarbor.com/wp-content/uploads/2020/03/story-time_cottage-book-shop_fruit_salad_friend_03.png
ORGANIZER;CN="Cottage Book Shop":MAILTO:info@cottagebooks.com
END:VEVENT
BEGIN:VEVENT
DTSTART;TZID=America/Detroit:20180801T200000
DTEND;TZID=America/Detroit:20180801T220000
DTSTAMP:20260424T130321
CREATED:20180603T000334Z
LAST-MODIFIED:20180603T000334Z
UID:10002741-1533153600-1533160800@www.visitglenarbor.com
SUMMARY:MMF: Emma Cook & her Questionable Company Aug 1 '18
DESCRIPTION:Leelanau County native Emma Cook — and her Questionable Company — return to the Manitou Music Festival Studio Stage Wednesday\, August 1\, 8 pm. Studio Stage is located behind Lake Street Studios\, 6023 S. Lake St.\, Glen Arbor. \nBorn in the thriving Burlington\, Vermont music scene\, three friends raised on funk\, jazz\, blues\, and soul combine their nuanced styles to create this all-original trio. Big band jazz to acoustic coffee shop\, funky grooves and melodic lyrics. Emma Cook leads a small band with a curiously large sound \nThe Manitou Music Festival is a project of the Glen Arbor Arts Center. Tickets are $18 for GAAC members\, $20 for nonmembers. Children under 18 are admitted without charge. To reserve tickets or for more information\, please go to: GlenArborArt.org\, or call 231/334-6112. In the event of rain\, this concert will be moved to the Glen Arbor Town Hall\, 6394 W. Western Avenue/M-22\, Glen Arbor.
URL:https://www.visitglenarbor.com/event/mmf-emma-cook-her-questionable-company-aug-1-18/
LOCATION:Studio Stage at Lake Street Studios\, 6023 Lake St.\, Glen Arbor\, MI\, 49636\, United States
CATEGORIES:Music
ATTACH;FMTTYPE=:
END:VEVENT
BEGIN:VEVENT
DTSTART;TZID=America/Detroit:20180801T220000
DTEND;TZID=America/Detroit:20180802T000000
DTSTAMP:20260424T130321
CREATED:20180720T230924Z
LAST-MODIFIED:20200309T054900Z
UID:10003106-1533160800-1533168000@www.visitglenarbor.com
SUMMARY:Stargazing and Constellation Lesson Aug 1
DESCRIPTION:Open to the Public\, a Stargazing and Constellation Lesson held at Leelanau Observatory \n \nA clear night provides the perfect setting for a star-filled sky\, made even more visible by our 14″ Celestron Telescope in the Lanphier Observatory. You’ll see plenty of heavenly objects in bright\, brilliant detail\, and learn from Norm Wheeler\, our local authority and guide.\n \n10pm – midnight – Wednesday and Thursday nights – June 20 – August 30\nAdmission:  Adults $4  Students $3\n \nVisitors may park in any Leelanau School lot and walk down the scenic boardwalk\, across the Crystal River\, to the Lanphier Observatory or adventurous types may walk in from the beach\, as the Lanphier Observatory is easily visible to passersby\, being tucked just between the shore and the trees.\n \n\nThe Leelanau School Observatory on the Beach\, One Old Homestead Rd.\, Glen Arbor\, MI 49636 \n\nhttp://leelanau.org/serving-leelanau-community/the-lanphier-observatory/
URL:https://www.visitglenarbor.com/event/stargazing-and-constellation-lesson-aug-1/
LOCATION:The Leelanau School\, 1 Old Homestead Road\, Glen Arbor\, Michigan\, 49636
CATEGORIES:Community Events,Education,Recreation
ATTACH;FMTTYPE=image/jpeg:https://www.visitglenarbor.com/wp-content/uploads/2020/03/Observatory-Night-1-e1532113488695.jpg
END:VEVENT
END:VCALENDAR