BEGIN:VCALENDAR
VERSION:2.0
PRODID:-//Glen Lake Chamber of Commerce - ECPv6.15.20//NONSGML v1.0//EN
CALSCALE:GREGORIAN
METHOD:PUBLISH
X-ORIGINAL-URL:https://www.visitglenarbor.com
X-WR-CALDESC:Events for Glen Lake Chamber of Commerce
REFRESH-INTERVAL;VALUE=DURATION:PT1H
X-Robots-Tag:noindex
X-PUBLISHED-TTL:PT1H
BEGIN:VTIMEZONE
TZID:America/Detroit
BEGIN:DAYLIGHT
TZOFFSETFROM:-0500
TZOFFSETTO:-0400
TZNAME:EDT
DTSTART:20170312T070000
END:DAYLIGHT
BEGIN:STANDARD
TZOFFSETFROM:-0400
TZOFFSETTO:-0500
TZNAME:EST
DTSTART:20171105T060000
END:STANDARD
BEGIN:DAYLIGHT
TZOFFSETFROM:-0500
TZOFFSETTO:-0400
TZNAME:EDT
DTSTART:20180311T070000
END:DAYLIGHT
BEGIN:STANDARD
TZOFFSETFROM:-0400
TZOFFSETTO:-0500
TZNAME:EST
DTSTART:20181104T060000
END:STANDARD
BEGIN:DAYLIGHT
TZOFFSETFROM:-0500
TZOFFSETTO:-0400
TZNAME:EDT
DTSTART:20190310T070000
END:DAYLIGHT
BEGIN:STANDARD
TZOFFSETFROM:-0400
TZOFFSETTO:-0500
TZNAME:EST
DTSTART:20191103T060000
END:STANDARD
END:VTIMEZONE
BEGIN:VEVENT
DTSTART;TZID=America/Detroit:20180602T193000
DTEND;TZID=America/Detroit:20180602T193000
DTSTAMP:20260424T230335
CREATED:20180603T003106Z
LAST-MODIFIED:20180603T003106Z
UID:10003045-1527967800-1527967800@www.visitglenarbor.com
SUMMARY:Sunset Boulevard | June 2
DESCRIPTION:The Glen Arbor Arts Center’s Glen Arbor Players [formerly Readers’ Theater] head back in time to Hollywood in its next production\, “Sunset Boulevard.”  \nPerformances are June 1 +2 at the Glen Lake Community Reformed Church\, 4902 W. MacFarlane Road\, Burdickville. The performance is free. \nIt’s 1950’s Hollywood\, and the obscure screenplay writer Joe Gillis is not able to sell his work to the studios\, is full of debts and is thinking of returning to his hometown to work in an office. While trying to escape from his creditors\, he has a flat tire and parks his car in a decadent mansion on Sunset Boulevard. He meets the owner and former silent-movie star Norma Desmond\, and\, suddenly\, Joe Gillis has something to write about. The GAP script was adapted by the production’s director\, Ron Smith\, from a 1951 radio broadcast and from the 1950 script used in the Hollywood film. 
URL:https://www.visitglenarbor.com/event/sunset-boulevard-june-2/
LOCATION:Glen Lake Community Reformed Church\, 4902 W MacFarlane Rd\, Glen Arbor\, MI\, 49636\, United States
ATTACH;FMTTYPE=:
ORGANIZER;CN="Glen Arbor Arts Center":MAILTO:director@glenarborart.org
END:VEVENT
END:VCALENDAR