BEGIN:VCALENDAR
VERSION:2.0
PRODID:-//Glen Lake Chamber of Commerce - ECPv6.15.19//NONSGML v1.0//EN
CALSCALE:GREGORIAN
METHOD:PUBLISH
X-ORIGINAL-URL:https://www.visitglenarbor.com
X-WR-CALDESC:Events for Glen Lake Chamber of Commerce
REFRESH-INTERVAL;VALUE=DURATION:PT1H
X-Robots-Tag:noindex
X-PUBLISHED-TTL:PT1H
BEGIN:VTIMEZONE
TZID:America/Detroit
BEGIN:DAYLIGHT
TZOFFSETFROM:-0500
TZOFFSETTO:-0400
TZNAME:EDT
DTSTART:20150308T070000
END:DAYLIGHT
BEGIN:STANDARD
TZOFFSETFROM:-0400
TZOFFSETTO:-0500
TZNAME:EST
DTSTART:20151101T060000
END:STANDARD
BEGIN:DAYLIGHT
TZOFFSETFROM:-0500
TZOFFSETTO:-0400
TZNAME:EDT
DTSTART:20160313T070000
END:DAYLIGHT
BEGIN:STANDARD
TZOFFSETFROM:-0400
TZOFFSETTO:-0500
TZNAME:EST
DTSTART:20161106T060000
END:STANDARD
BEGIN:DAYLIGHT
TZOFFSETFROM:-0500
TZOFFSETTO:-0400
TZNAME:EDT
DTSTART:20170312T070000
END:DAYLIGHT
BEGIN:STANDARD
TZOFFSETFROM:-0400
TZOFFSETTO:-0500
TZNAME:EST
DTSTART:20171105T060000
END:STANDARD
BEGIN:DAYLIGHT
TZOFFSETFROM:-0500
TZOFFSETTO:-0400
TZNAME:EDT
DTSTART:20180311T070000
END:DAYLIGHT
BEGIN:STANDARD
TZOFFSETFROM:-0400
TZOFFSETTO:-0500
TZNAME:EST
DTSTART:20181104T060000
END:STANDARD
END:VTIMEZONE
BEGIN:VEVENT
DTSTART;TZID=America/Detroit:20161101T100000
DTEND;TZID=America/Detroit:20170102T170000
DTSTAMP:20260419T151214
CREATED:20161014T231020Z
LAST-MODIFIED:20200309T054755Z
UID:10002810-1477994400-1483376400@www.visitglenarbor.com
SUMMARY:Plein Air Painters of Northwest Michigan
DESCRIPTION:Plein Air Painters of NW Michigan will be exhibiting over 100 paintings at the historic City Opera House.  The opening reception will be held on Wednesday\, November 2 from 5:00 p.m. to 7:00 p.m. with a secondary reception being held in conjunction with Ladies Shopping Night downtown on Thursday\, December 8 from 5:00 p.m. to 9:00 p.m.  Light refreshments will be served and both receptions are free and open to the public.  There will be works in a variety of mediums\, oil\, acrylic\, watercolor\, and pastel.  Paintings are priced for holiday shopping and most will be $300.00 or less.  A percentage of each sale benefits the City Opera House.  Hours are Monday through Friday from 10:00 a.m. to 5:00 p.m. and also open during ticketed evening and weekend shows.
URL:https://www.visitglenarbor.com/event/plein-air-painters-of-northwest-michigan/
LOCATION:City Opera House\, 106 E. Front Street\, Traverse City\, MI\, 49684\, United States
CATEGORIES:Art/Gallery/Exhibit,Community Events,Kids + Family Friendly
ORGANIZER;CN="City Opera House and Plein Air Painters of Northwest Michigan":MAILTO:sherrymcnamara@hotmail.com
END:VEVENT
BEGIN:VEVENT
DTSTART;TZID=America/Detroit:20161206T160000
DTEND;TZID=America/Detroit:20161206T173000
DTSTAMP:20260419T151214
CREATED:20160130T000136Z
LAST-MODIFIED:20200309T054724Z
UID:10002638-1481040000-1481045400@www.visitglenarbor.com
SUMMARY:Chamber Board meeting - December 6th
DESCRIPTION:Chamber Board members meet once a month\, at 4:00pm in the Glen Arbor Township Hall (unless noted otherwise)\, typically scheduled for the 1st Tuesday of the month. These meetings are closed to Board members only. \n2016 Glen Lake Chamber Board Meeting Dates\nJanuary 12\nFebruary 2\nMarch 1\nApril 5\nMay 3\nJune 7\nJuly 5\nAugust 2\nSeptember 6\nOctober 4\nNovember 1\nDecember  6 \n\nUseful Link:\nView our Member meeting dates for 2016\, Open to the Community
URL:https://www.visitglenarbor.com/event/chamber-board-meeting-december-6th/
LOCATION:Glen Arbor Township Hall
CATEGORIES:Chamber Events
END:VEVENT
END:VCALENDAR