BEGIN:VCALENDAR
VERSION:2.0
PRODID:-//Glen Lake Chamber of Commerce - ECPv6.15.19//NONSGML v1.0//EN
CALSCALE:GREGORIAN
METHOD:PUBLISH
X-ORIGINAL-URL:https://www.visitglenarbor.com
X-WR-CALDESC:Events for Glen Lake Chamber of Commerce
REFRESH-INTERVAL;VALUE=DURATION:PT1H
X-Robots-Tag:noindex
X-PUBLISHED-TTL:PT1H
BEGIN:VTIMEZONE
TZID:America/Detroit
BEGIN:DAYLIGHT
TZOFFSETFROM:-0500
TZOFFSETTO:-0400
TZNAME:EDT
DTSTART:20140309T070000
END:DAYLIGHT
BEGIN:STANDARD
TZOFFSETFROM:-0400
TZOFFSETTO:-0500
TZNAME:EST
DTSTART:20141102T060000
END:STANDARD
BEGIN:DAYLIGHT
TZOFFSETFROM:-0500
TZOFFSETTO:-0400
TZNAME:EDT
DTSTART:20150308T070000
END:DAYLIGHT
BEGIN:STANDARD
TZOFFSETFROM:-0400
TZOFFSETTO:-0500
TZNAME:EST
DTSTART:20151101T060000
END:STANDARD
BEGIN:DAYLIGHT
TZOFFSETFROM:-0500
TZOFFSETTO:-0400
TZNAME:EDT
DTSTART:20160313T070000
END:DAYLIGHT
BEGIN:STANDARD
TZOFFSETFROM:-0400
TZOFFSETTO:-0500
TZNAME:EST
DTSTART:20161106T060000
END:STANDARD
END:VTIMEZONE
BEGIN:VEVENT
DTSTART;TZID=America/Detroit:20150326T193000
DTEND;TZID=America/Detroit:20150326T210000
DTSTAMP:20260419T160532
CREATED:20150303T193404Z
LAST-MODIFIED:20200309T054646Z
UID:10002447-1427398200-1427403600@www.visitglenarbor.com
SUMMARY:Talk About Art with Julie Kradel
DESCRIPTION:The Glen Arbor Art Association (GAAA) âTalk About Artâ series continues in conversation with sculptor Julie Kradel\, March 26\, 7:30 p.m. at the GAAA\, 6031 S. Lake St.\, Glen Arbor. \n  \nKradel\, a clay sculptor\, is a latecomer to the world of studio art but has made up for it in record time. In 2010\, at the age of 52\, she began a career selling on the art fair circuit. Her work â joyful interpretations of the animals who live at the Cedar farmstead she calls home — has garnered dozens of awards. Kradel will talk about her work and the rigors of doing business inside a 10-foot-square art fair tent. \n  \nâTalk About Artâ is a series of conversational interviews with regional artmakers. It focuses on creative practice\, process and making as experienced by visual and performing artists. For more information\, go to: http://www.glenarborart.org/; or call 231/334-6112.
URL:https://www.visitglenarbor.com/event/talk-about-art-with-julie-kradel/
CATEGORIES:Community Events
END:VEVENT
END:VCALENDAR