BEGIN:VCALENDAR
VERSION:2.0
PRODID:-//Glen Lake Chamber of Commerce - ECPv6.15.19//NONSGML v1.0//EN
CALSCALE:GREGORIAN
METHOD:PUBLISH
X-ORIGINAL-URL:https://www.visitglenarbor.com
X-WR-CALDESC:Events for Glen Lake Chamber of Commerce
REFRESH-INTERVAL;VALUE=DURATION:PT1H
X-Robots-Tag:noindex
X-PUBLISHED-TTL:PT1H
BEGIN:VTIMEZONE
TZID:America/Detroit
BEGIN:DAYLIGHT
TZOFFSETFROM:-0500
TZOFFSETTO:-0400
TZNAME:EDT
DTSTART:20130310T070000
END:DAYLIGHT
BEGIN:STANDARD
TZOFFSETFROM:-0400
TZOFFSETTO:-0500
TZNAME:EST
DTSTART:20131103T060000
END:STANDARD
BEGIN:DAYLIGHT
TZOFFSETFROM:-0500
TZOFFSETTO:-0400
TZNAME:EDT
DTSTART:20140309T070000
END:DAYLIGHT
BEGIN:STANDARD
TZOFFSETFROM:-0400
TZOFFSETTO:-0500
TZNAME:EST
DTSTART:20141102T060000
END:STANDARD
BEGIN:DAYLIGHT
TZOFFSETFROM:-0500
TZOFFSETTO:-0400
TZNAME:EDT
DTSTART:20150308T070000
END:DAYLIGHT
BEGIN:STANDARD
TZOFFSETFROM:-0400
TZOFFSETTO:-0500
TZNAME:EST
DTSTART:20151101T060000
END:STANDARD
END:VTIMEZONE
BEGIN:VEVENT
DTSTART;TZID=America/Detroit:20141220T170000
DTEND;TZID=America/Detroit:20141220T210000
DTSTAMP:20260423T091054
CREATED:20141212T020229Z
LAST-MODIFIED:20200309T054642Z
UID:10002326-1419094800-1419109200@www.visitglenarbor.com
SUMMARY:Annual Holiday Pot Luck Dinner
DESCRIPTION:The Annual Holiday Pot Luck Dinner\, Sponsored By the Empire Area Community Center (EACC) will be Saturday\, December 20th 2014.\nLocated at the Empire Town Hall in Empire\, MI featuring special guests\, Mr & Mrs Claus! Ham will be donated this year by Deering’s Market. \nSchedule for evening:  5:00pm Doors Open\, 6:00 Dinner Begins\, 6:40 Mr and Mrs Claus arrive\, 9:00 Clean Up Begin.  \nSupplied: Ham\, Coffee\, Hot Chocolate & Lemonade \nWhat to Bring: A Dish to Pass & B.Y.O.B. and Your Own Place Settings  \nWe invite you to bring a food donation for the Empire Area Food Bank and EACC will be accepting monetary donations for continued support of community events.
URL:https://www.visitglenarbor.com/event/annual-holiday-pot-luck-dinner/
LOCATION:Empire Township Hall\, 10088 W. Front Street\, Empire\, MI \, Empire\, MI\, 49630\, United States
CATEGORIES:Community Events
END:VEVENT
END:VCALENDAR