BEGIN:VCALENDAR
VERSION:2.0
PRODID:-//Glen Lake Chamber of Commerce - ECPv6.15.20//NONSGML v1.0//EN
CALSCALE:GREGORIAN
METHOD:PUBLISH
X-WR-CALNAME:Glen Lake Chamber of Commerce
X-ORIGINAL-URL:https://www.visitglenarbor.com
X-WR-CALDESC:Events for Glen Lake Chamber of Commerce
REFRESH-INTERVAL;VALUE=DURATION:PT1H
X-Robots-Tag:noindex
X-PUBLISHED-TTL:PT1H
BEGIN:VTIMEZONE
TZID:America/Detroit
BEGIN:DAYLIGHT
TZOFFSETFROM:-0500
TZOFFSETTO:-0400
TZNAME:EDT
DTSTART:20130310T070000
END:DAYLIGHT
BEGIN:STANDARD
TZOFFSETFROM:-0400
TZOFFSETTO:-0500
TZNAME:EST
DTSTART:20131103T060000
END:STANDARD
BEGIN:DAYLIGHT
TZOFFSETFROM:-0500
TZOFFSETTO:-0400
TZNAME:EDT
DTSTART:20140309T070000
END:DAYLIGHT
BEGIN:STANDARD
TZOFFSETFROM:-0400
TZOFFSETTO:-0500
TZNAME:EST
DTSTART:20141102T060000
END:STANDARD
BEGIN:DAYLIGHT
TZOFFSETFROM:-0500
TZOFFSETTO:-0400
TZNAME:EDT
DTSTART:20150308T070000
END:DAYLIGHT
BEGIN:STANDARD
TZOFFSETFROM:-0400
TZOFFSETTO:-0500
TZNAME:EST
DTSTART:20151101T060000
END:STANDARD
END:VTIMEZONE
BEGIN:VEVENT
DTSTART;VALUE=DATE:20141129
DTEND;VALUE=DATE:20141130
DTSTAMP:20260424T122003
CREATED:20141106T031227Z
LAST-MODIFIED:20141106T031227Z
UID:10002320-1417219200-1417305599@www.visitglenarbor.com
SUMMARY:Shop Small Saturday | Glen Arbor
DESCRIPTION:Shop Small Saturday is November 29th\, 2014\n#ShopSmall on Small Business Saturday.  Get your #smallbiz ready for #SmallBizSat\, Nov 29 \nEvery purchase counts! Shop your greater Glen Lake area neighborhood business! \nAre YOU A SMALL BUSINESS? Go to the Shop Small website as a resource to learn more\, get FREE printable signage to use and other ways to market your business for Shop Small Saturday! \n  \nALSO HAPPENING TODAY: Glen Arbor and Empire\, MI Holiday Artisan Marketplaces!
URL:https://www.visitglenarbor.com/event/shop-small-saturday-glen-arbor/
LOCATION:Glen Arbor\, MI\, Glen Arbor
CATEGORIES:Community Events,Local Business Event
ATTACH;FMTTYPE=:
END:VEVENT
BEGIN:VEVENT
DTSTART;TZID=America/Detroit:20141129T100000
DTEND;TZID=America/Detroit:20141129T170000
DTSTAMP:20260424T122003
CREATED:20141003T003058Z
LAST-MODIFIED:20200309T054639Z
UID:10002420-1417255200-1417280400@www.visitglenarbor.com
SUMMARY:HOLIDAY MARKETPLACES
DESCRIPTION:These annual community event features a variety of artisans showcasing different types of gifts/work\, with an emphasis on local and handmade products/artworks. This is a great opportunity to support your local artisans and shop for yourself and for the holidays!  There’s different artisans at both markets and plenty of time in the day for you\, your friends and family to drive and shop both markets!\n  \nGlen Arbor Holiday Marketplace:\nSaturday\, November 29\, 2014 from 10 AM to 4 PM in the Glen Arbor Township Hall\nSchedule of events: \n• Artisans…SET-UP: Friday 3-7 PM (there will be NO quick set up this year). \n• Friday Nov. 28th: After the annual Glen Arbor Tree lighting and carols\, All booths will be set up and ready for holiday “business” by 7 PM\, Friday evening. Products may be for sale Friday evening at the Holiday Marketplace preview party! \n• Saturday Nov. 29th: Marketplace doors open at 10:00 AM and will close at 4:00 PM. \n \n\n\n\n\n\n\n\n• Meet Santa & Mrs. Santa Claus!!! They will be at the Glen Arbor Holiday Marketplace from 10:30 to 3:00 with some little toys and goodies! Bring the kids and your camera for some great fun and photo opps!\n \n• Refreshments/ lunch by Riverfront Deli\, will be for sale during the Market. \n(If you are a vendor or artisan and have any questions\, please contact Betsy at bbwebb@chartermi.net)\n \n  \nEmpire Artisans Market:\nSaturday\, November 29\, 2014 from 11 AM to 5 PM\n• Artisan Market located in the Empire Town Hall \n• Following the Market\, will be a Tree Lighting Ceremony in the Village of Empire!
URL:https://www.visitglenarbor.com/event/glen-arbor-holiday-marketplace/
LOCATION:Glen Arbor Township Hall
CATEGORIES:Chamber Events,Community Events
ATTACH;FMTTYPE=image/jpeg:https://www.visitglenarbor.com/wp-content/uploads/2020/03/DSC02365.jpg
END:VEVENT
END:VCALENDAR