BEGIN:VCALENDAR
VERSION:2.0
PRODID:-//Glen Lake Chamber of Commerce - ECPv6.15.20//NONSGML v1.0//EN
CALSCALE:GREGORIAN
METHOD:PUBLISH
X-WR-CALNAME:Glen Lake Chamber of Commerce
X-ORIGINAL-URL:https://www.visitglenarbor.com
X-WR-CALDESC:Events for Glen Lake Chamber of Commerce
REFRESH-INTERVAL;VALUE=DURATION:PT1H
X-Robots-Tag:noindex
X-PUBLISHED-TTL:PT1H
BEGIN:VTIMEZONE
TZID:America/Detroit
BEGIN:DAYLIGHT
TZOFFSETFROM:-0500
TZOFFSETTO:-0400
TZNAME:EDT
DTSTART:20130310T070000
END:DAYLIGHT
BEGIN:STANDARD
TZOFFSETFROM:-0400
TZOFFSETTO:-0500
TZNAME:EST
DTSTART:20131103T060000
END:STANDARD
BEGIN:DAYLIGHT
TZOFFSETFROM:-0500
TZOFFSETTO:-0400
TZNAME:EDT
DTSTART:20140309T070000
END:DAYLIGHT
BEGIN:STANDARD
TZOFFSETFROM:-0400
TZOFFSETTO:-0500
TZNAME:EST
DTSTART:20141102T060000
END:STANDARD
BEGIN:DAYLIGHT
TZOFFSETFROM:-0500
TZOFFSETTO:-0400
TZNAME:EDT
DTSTART:20150308T070000
END:DAYLIGHT
BEGIN:STANDARD
TZOFFSETFROM:-0400
TZOFFSETTO:-0500
TZNAME:EST
DTSTART:20151101T060000
END:STANDARD
END:VTIMEZONE
BEGIN:VEVENT
DTSTART;VALUE=DATE:20141128
DTEND;VALUE=DATE:20141129
DTSTAMP:20260424T121952
CREATED:20141003T004938Z
LAST-MODIFIED:20200309T054639Z
UID:10002422-1417132800-1417219199@www.visitglenarbor.com
SUMMARY:Friday Shopping: PJ Party downtown Glen Arbor
DESCRIPTION:It’s here again! A Glen Arbor original\, “better than a bustling city’s Black Friday\,” our version of the day-after-Thanksgiving shopping\, is the annual PJ party: Friday Morning November\, 28th 2014 from 5am – 8am. \nShop the downtown district stores in your PJ’s for extra special discounts and fun! Come Shop\, Dine and Stay in the Naturally Beautiful Glen Lake area! \nLater that day\, join the community Friday evening for the annual Tree Lighting ceremony and Caroling at the GA Township Hall at 6:30pm! Then\, stay after for the Holiday Marketplace Preview Party: in the Town Hall from 7:00-8:00pm for local artisan gifts and shopping!\n \nParticipating Businesses to Visit:\nBecky Thatcher Jewelry\n \nArts Tavern \nCherry Republic \nThe Cyclery  \nCottage Book Shop \nLake Affect Store \nLeelanau Coffee \nM-22 Glen Arbor \nNorthwoods Hardware | Home & Garden \nThe Sportsman Shop \nThe Totem Shop  \nWildflowers \nHatlem Churchill \nThe Yarn Shop\n \nThe Homestead \nBay Wear
URL:https://www.visitglenarbor.com/event/friday-shopping-pj-party-downtown-glen-arbor/
LOCATION:Downtown Glen Arbor\, Glen Arbor\, MI\, 49636\, United States
CATEGORIES:Chamber Events,Community Events,Recreation
ATTACH;FMTTYPE=image/jpeg:https://www.visitglenarbor.com/wp-content/uploads/2020/03/glen-arbor-pj-party.jpg
END:VEVENT
BEGIN:VEVENT
DTSTART;TZID=America/Detroit:20141128T183000
DTEND;TZID=America/Detroit:20141128T200000
DTSTAMP:20260424T121952
CREATED:20141003T005943Z
LAST-MODIFIED:20141003T005943Z
UID:10002423-1417199400-1417204800@www.visitglenarbor.com
SUMMARY:Annual Tree lighting Ceremony & Caroling
DESCRIPTION:Join us as the community gathers Friday night\, November 28th\, 2014 for the annual Tree Lighting ceremony and Caroling at the Glen Arbor Township Hall at 6:30pm! Cider and homemade donuts served by Art’s Tavern! Yum!\n \nThen\, stay after the ceremony\, for the Holiday Marketplace Preview Party for shopping\, just inside the Town Hall from 7:00-8:00pm. Get first picks of wonderful local artisan gifts!\n \n(Earlier in the day\, on Friday morning\, don’t miss the Annual PJ party: Where we all shop the downtown stores in our PJ’s for special discounts with local merchants!) \nBring the kidlets back on Saturday\, November 29th for meeting and photo opportunities\, sitting with Mr. and Mrs. Santa Claus in the Glen Arbor Town Hall during the Holiday MarketPlace! Click for more details…
URL:https://www.visitglenarbor.com/event/annual-tree-lighting-ceremony-caroling/
LOCATION:Glen Arbor Township Hall
CATEGORIES:Chamber Events,Community Events,Recreation
ATTACH;FMTTYPE=:
END:VEVENT
END:VCALENDAR