BEGIN:VCALENDAR
VERSION:2.0
PRODID:-//Glen Lake Chamber of Commerce - ECPv6.15.20//NONSGML v1.0//EN
CALSCALE:GREGORIAN
METHOD:PUBLISH
X-ORIGINAL-URL:https://www.visitglenarbor.com
X-WR-CALDESC:Events for Glen Lake Chamber of Commerce
REFRESH-INTERVAL;VALUE=DURATION:PT1H
X-Robots-Tag:noindex
X-PUBLISHED-TTL:PT1H
BEGIN:VTIMEZONE
TZID:America/Detroit
BEGIN:DAYLIGHT
TZOFFSETFROM:-0500
TZOFFSETTO:-0400
TZNAME:EDT
DTSTART:20130310T070000
END:DAYLIGHT
BEGIN:STANDARD
TZOFFSETFROM:-0400
TZOFFSETTO:-0500
TZNAME:EST
DTSTART:20131103T060000
END:STANDARD
BEGIN:DAYLIGHT
TZOFFSETFROM:-0500
TZOFFSETTO:-0400
TZNAME:EDT
DTSTART:20140309T070000
END:DAYLIGHT
BEGIN:STANDARD
TZOFFSETFROM:-0400
TZOFFSETTO:-0500
TZNAME:EST
DTSTART:20141102T060000
END:STANDARD
BEGIN:DAYLIGHT
TZOFFSETFROM:-0500
TZOFFSETTO:-0400
TZNAME:EDT
DTSTART:20150308T070000
END:DAYLIGHT
BEGIN:STANDARD
TZOFFSETFROM:-0400
TZOFFSETTO:-0500
TZNAME:EST
DTSTART:20151101T060000
END:STANDARD
END:VTIMEZONE
BEGIN:VEVENT
DTSTART;TZID=America/Detroit:20140919T110000
DTEND;TZID=America/Detroit:20141013T160000
DTSTAMP:20260425T081159
CREATED:20140629T001231Z
LAST-MODIFIED:20200309T054618Z
UID:10002383-1411124400-1413216000@www.visitglenarbor.com
SUMMARY:New Fiber Work: Brady\, Brown + Kostyshyn
DESCRIPTION:Fiber is the focus Sept. 19-Oct. 13 at Center Gallery\, 6023 S. Lake St.\, Glen Arbor. The gallery will showcase contemporary approaches to an old medium by three artists: Kathy Brady\, Stephen Kostyshyn and Lisa Perrine Brown. The show opens Sept. 19 with a 6 p.m. reception. \n  \nBrady\, a Williamston resident\, creates mixed media vessels in clay. She combines fiber – paper and vegetation – with her clay and hand forms the object. Brady also looks to the quilt world for design inspiration. \n  \nKostyshyn also combines clay and fiber. He throws or creates through slab work a clay base from which he weaves intricate baskets and vases. The Cedar resident uses a variety of materials in his weaving\, including rattan\, palm\, birch bark and red osier. \n  \nBrown began interpreting maps of local waterways and landforms in 2012. After enlarging the maps\, Brown translates them into woven tapestries and sewn constructions that use both new and recycled fiber materials. As part of the exhibition\, the Traverse City artist will talk about her work and conduct a demonstration at Center Gallery Sunday\, Sept. 21\, 1 p.m. \n  \nFor more information\, please call 231/334-3179. \n  \n 
URL:https://www.visitglenarbor.com/event/new-fiber-work-brady-brown-kostyshyn/
LOCATION:Center Gallery at Lake Street Studios
CATEGORIES:Community Events,Local Business Event
END:VEVENT
BEGIN:VEVENT
DTSTART;TZID=America/Detroit:20140925T193000
DTEND;TZID=America/Detroit:20140925T210000
DTSTAMP:20260425T081159
CREATED:20140426T164535Z
LAST-MODIFIED:20200309T054612Z
UID:10002351-1411673400-1411678800@www.visitglenarbor.com
SUMMARY:Artist-in-Residence Talk: Gail Griffin
DESCRIPTION:Gail Griffin\, the Glen Arbor Art Association’s (GAAA) artist-in-residence Sept. 14-27\, divides her life into parts: before her husband’s death and after. She talks about the work she’s done on a volume of prose poetry exploring this personal tragedy Sept. 25\, 7:30 p.m.\, Glen Arbor Art Association\, 6031 S. Lake St.\, Glen Arbor. \n  \nGriffin was married for four months when her husband “fell into the Manistee River and drowned.” Her GAAA residency has been a time when she could pull together a range of written materials – poetry\, essays – into book form. At her Sept. 25 presentation\, Griffin will talk about the mechanics of creating a deeply personal tale intended for publication. Griffin is a professor of English now retired from Kalamazoo College. \n  \nThe GAAA’s Artist-In-Residence program provides artists with two-week residencies. At the end of their stay\, artists present work and talk about their experiences during this period of uninterrupted study. The presentations are open to the public without charge. For more information\, please call 231/334-6112. \n 
URL:https://www.visitglenarbor.com/event/artist-in-residence-talk-gail-griffin/
LOCATION:MI\, United States
CATEGORIES:Community Events
END:VEVENT
END:VCALENDAR